Workbook
Name CM: #REF!
Name DateM9: #REF!
Name sysLongName: #REF!
Name sysMARSID: #REF!
Name sysNHSCode: #REF!
Name sysPeriod: #REF!
Name sysSector: #REF!
Name sysStatus: #REF!
Name sysYear: #REF!

Sheet Declaration
B1: Compile
B3: PLEASE READ AND COMPLETE PRIOR TO SUBMITTING YOUR APPLICATION FOR REVENUE SUPPORT PDC
B6: Trust Name | C6: Oxford University Hospitals NHS Foundation Trust | G6: {=IF(SUMPRODUCT(--(ISNUMBER(SEARCH("Incomplete", G12:G53)))), "Application incomplete and cannot be submitted.", "Confirmed - application can be submitted.")} -> Confirmed - application can be submitted.
B7: Trust Code | C7: =VLOOKUP(C6,List!B:C,2,FALSE) -> RTH
B9: Self Certification | F9: Response | G9: Validation
B11: 1. Declaration of completeness and accuracy
B12: The Board of Directors and associated senior finance stakeholders are satisfied that the data contained within this submission is complete and accurate as of the date of submission, and that the forecast is based on of a most-likely scenario analysis. The Board of Directors are further satisfied that they are aware of and supportive of this submission, and that the drivers of the deficit are quantified and understood, and that the Trust are working on mitigations to reduce or eliminate the need for revenue support PDC in future quarters. | D12: i | F12: Confirmed | G12: =IF(OR(ISBLANK(F12), F12="No"), "Incomplete - application cannot be submitted", "Complete") -> Complete
B14: 2. Chair and Chief Executive approval
B15: The Chair and Chief Executive of the Trust are required to provide a signed letter alongside the Trust's application for Revenue Support PDC outlining why cash support is required and what actions are being taken by the Trust to mitigate and alleviate cash pressures and spending, including exploration of local system solutions. The letter should also set out agreed recovery actions including grip and control measures, delivery of efficiency plans, and headcount reductions. | D15: i | F15: Confirmed | G15: =IF(OR(ISBLANK(F15), F15="No"), "Incomplete - application cannot be submitted", "Complete") -> Complete
B17: 3. Regional approval
B18: The Trust's submission has been discussed with your NHS England Regional contact, and the Region has reviewed and supports the Trust's application for revenue support PDC. Trusts should be engaging with the Regions as far in advance of submissions as possible to ensure appropriate mitigations are taken. | D18: i | F18: Confirmed | G18: =IF(OR(ISBLANK(F18), F18="No"), "Incomplete - application cannot be submitted", "Complete") -> Complete
B20: 4. Conditions
B21: The Trust are aware that, subject to their application for Revenue Support PDC being approved and PDC subsequently drawn down, they may be set conditions by NHS England which will require evidence of completion to be provided by the Trust's Chief Financial Officer or Director of Finance. Previous conditions have included the implementation of enhanced controls and processes for pay and non-pay expenditure, the completion of run-rate expenditure analysis, and the completion of bridge analysis for changes in payroll expenditure. | D21: i | F21: Yes | G21: =IF(OR(ISBLANK(F21), F21="No"), "Incomplete - application cannot be submitted", "Complete") -> Complete
B23: 5. Commentary checks
B24: In the commentary template, has the Trust included detailed quantified drivers of the deficit and/or working capital request? | D24: i | F24: Yes | G24: =IF(OR(ISBLANK(F24), F24="No"), "Incomplete - application cannot be submitted", "Complete") -> Complete
B26: In the commentary template, has the Trust included actionable mitigants that have been identified and are in place or planned to be in place to reduce or eliminate the need for revenue support PDC in a specified timeframe? | D26: i | F26: Yes | G26: =IF(OR(ISBLANK(F26), F26="No"), "Incomplete - application cannot be submitted", "Complete") -> Complete
B28: In the commentary template, has the Trust included a detailed analysis of the current receivables position, and in particular analysed the aged debt and accrued income positions with actions outlined to improve cash collection if required? | D28: i | F28: Yes | G28: =IF(OR(ISBLANK(F28), F28="No"), "Incomplete - application cannot be submitted", "Complete") -> Complete
B30: [WORKING CAPITAL SUPPORT ONLY] In the commentary template, has the Trust outlined its payables position and included specific and quantified payables for which working capital support is to be used to pay? | D30: i | F30: Yes | G30: =IF(OR(F30="N/A", F30="Yes"), "Complete", "Incomplete - application cannot be submitted") -> Complete
B32: Has information on your 25/26 CIP and a copy of the most recent CIP report or status update been attached to your submission to Provider Revenue Support? | D32: i | F32: Yes | G32: =IF(OR(ISBLANK(F32), F32="No"), "Incomplete - application cannot be submitted", "Complete") -> Complete
B34: 6. Daily Forecast tab
B35: Does the adjusted cash balance (line 80) on the "Daily Forecast" tab agree with the provided bank statement on the date of submission? | D35: i | F35: Yes | G35: =IF(OR(ISBLANK(F35), F35="No"), "Incomplete - application cannot be submitted", "Complete") -> Complete
B37: Is the minimum cash balance hit in the Revenue Cash flow (row 69 on Daily Forecast sheet ) & does it align to DHSC’s minimum shown in cell F38 on this sheet? | D37: i | F37: Trust min cash per DHSC £'000
F38: =(_xlfn.XLOOKUP(C7,'Minimum cash balance'!A:A,'Minimum cash balance'!C:C))/1000 -> 3000
B40: October | F40: =IF(OR('Daily Forecast'!BB63 > 0, 'Daily Forecast'!BB64 > 0), IF('Daily Forecast'!CE82 < 1, "No - at risk of going overdrawn - please discuss with Provider Revenue Support", IF(F38 < 'Daily Forecast'!CE69, "No", "Yes") ), "N/A" ) -> N/A | G40: =IF(AND(F40="N/A", F41="N/A", F42="N/A"), "Complete", IF(OR(ISNA(F40), ISNA(F41), ISNA(F42)), "Minimum cash not met - please resolve.", IF(OR(F40="No", F41="No", F42="No"), "Minimum cash not met - please resolve.", IF(OR(F40="Revenue cash negative", F41="Revenue cash negative", F42="Revenue cash negative"), "Revenue cash is negative - please ensure capital PDC is not being used to fund revenue expenditure.", IF(OR(F40="Yes", F41="Yes", F42="Yes", F40="No - at risk of going overdrawn - please discuss with Provider Revenue Support", F41="No - at risk of going overdrawn - please discuss with Provider Revenue Support", F42="No - at risk of going overdrawn - please discuss with Provider Revenue Support"), "Complete", "" ) ) ) ) ) -> Complete | K40: =IF(OR('Daily Forecast'!BD63>0, 'Daily Forecast'!BD64>0),IF('Daily Forecast'!CE69 < 0, "Revenue cash negative",IF(F38<'Daily Forecast'!CE69, "No", "Yes")),"N/A") -> N/A
B41: November | F41: =IF(OR('Daily Forecast'!CE63 > 0, 'Daily Forecast'!CE64 > 0), IF('Daily Forecast'!DH82 < 1, "No - at risk of going overdrawn - please discuss with Provider Revenue Support", IF(F38 < 'Daily Forecast'!DH69, "No", "Yes") ), "N/A" ) -> Yes | K41: =IF(OR('Daily Forecast'!CF63>0, 'Daily Forecast'!CF64>0),IF('Daily Forecast'!DH69 < 0, "Revenue cash negative",IF(F38<'Daily Forecast'!DH69, "No", "Yes")),"N/A") -> N/A
B42: December | F42: =IF(OR('Daily Forecast'!DH63 > 0, 'Daily Forecast'!DH64 > 0), IF('Daily Forecast'!ER82 < 1, "No - at risk of going overdrawn - please discuss with Provider Revenue Support", IF(F38 < 'Daily Forecast'!ER69, "No", "Yes") ), "N/A" ) -> N/A | K42: =IF(OR('Daily Forecast'!DQ63>0, 'Daily Forecast'!DQ64>0),IF('Daily Forecast'!ER69 < 0, "Revenue cash negative",IF(F38<'Daily Forecast'!ER69, "No", "Yes")),"N/A") -> N/A
B44: Has the Trusts depreciation income (received via tariff funding, as a reduction in the Trusts monthly contract income) been included? | D44: i | F44: =IF(OR('Daily Forecast'!AH45=0, 'Daily Forecast'!BN45=0, 'Daily Forecast'!CS45=0, 'Daily Forecast'!DY45=0, 'Daily Forecast'!FE45=0,'Daily Forecast'!AH15=0, 'Daily Forecast'!BN15=0, 'Daily Forecast'!CS15=0, 'Daily Forecast'!DY15=0, 'Daily Forecast'!FE15=0), "No", "Yes") -> Yes | G44: =IF(OR(ISBLANK(F44), F44="No"), "Incomplete - application cannot be submitted", "Complete") -> Complete
B46: Has the capital cashflow section of the cashflow forecast been completed? | D46: i | F46: Yes | G46: =IF(OR(ISBLANK(F46), F46="No"), "Incomplete - application cannot be submitted", "Complete") -> Complete
B48: Have all capital payable carried forward figures been completed? | D48: i | F48: =IF(OR(ISBLANK('Daily Forecast'!C34), ISBLANK('Daily Forecast'!AH34), ISBLANK('Daily Forecast'!BN34), ISBLANK('Daily Forecast'!CS34), ISBLANK('Daily Forecast'!DY34), ISBLANK('Daily Forecast'!FE34)), "No", "Yes") -> Yes | G48: =IF(OR(ISBLANK(F48), F48="No"), "Incomplete - application cannot be submitted", "Complete") -> Complete
B50: 7. Summary Sheet
B51: Has the Trust provided detailed comments on any variances in receipts and/or expenditure across the period? | D51: i | F51: Yes | G51: =IF(OR(ISBLANK(F51), F51="No"), "Incomplete - application cannot be submitted", "Complete") -> Complete
B53: Has the Trust provided detailed comments on any capital cash that is more than £500k or negative? | D53: i | F53: Yes | G53: =IF(OR(ISBLANK(F53), F53="No"), "Incomplete - application cannot be submitted", "Complete") -> Complete

Sheet Daily Forecast
B1: Standard Cashflow Forecast | C1: FIGURES TO BE ENTERED AS POSITIVES
B2: Trust Name | C2: =IF(Declaration!C6 ="Please select Trust Name", "Please select name on Declaration tab",Declaration!C6) -> Oxford University Hospitals NHS Foundation Trust
B3: Trust Code | C3: =Declaration!C7 -> RTH
B4: Regional Contact (Name/Email)
B5: ICB Contact (Name/Email)
B6: Trust Contact (Name/Email)
B8: Capital Cashflow & Payables
D9: =TEXT(D10,"ddd") -> Mon | E9: =TEXT(E10,"ddd") -> Tue | F9: =TEXT(F10,"ddd") -> Wed | G9: =TEXT(G10,"ddd") -> Thu | H9: =TEXT(H10,"ddd") -> Fri | I9: =TEXT(I10,"ddd") -> Sat | J9: =TEXT(J10,"ddd") -> Sun | K9: =TEXT(K10,"ddd") -> Mon | ... AG9: =TEXT(AG10,"ddd") -> Tue | AI9: =TEXT(AI10,"ddd") -> Wed | AJ9: =TEXT(AJ10,"ddd") -> Thu | AK9: =TEXT(AK10,"ddd") -> Fri | AL9: =TEXT(AL10,"ddd") -> Sat | AM9: =TEXT(AM10,"ddd") -> Sun | AN9: =TEXT(AN10,"ddd") -> Mon | AO9: =TEXT(AO10,"ddd") -> Tue | AP9: =TEXT(AP10,"ddd") -> Wed | ... BM9: =TEXT(BM10,"ddd") -> Fri | BO9: =TEXT(BO10,"ddd") -> Sat | BP9: =TEXT(BP10,"ddd") -> Sun | BQ9: =TEXT(BQ10,"ddd") -> Mon | BR9: =TEXT(BR10,"ddd") -> Tue | BS9: =TEXT(BS10,"ddd") -> Wed | BT9: =TEXT(BT10,"ddd") -> Thu | BU9: =TEXT(BU10,"ddd") -> Fri | BV9: =TEXT(BV10,"ddd") -> Sat | ... CR9: =TEXT(CR10,"ddd") -> Sun | CT9: =TEXT(CT10,"ddd") -> Mon | CU9: =TEXT(CU10,"ddd") -> Tue | CV9: =TEXT(CV10,"ddd") -> Wed | CW9: =TEXT(CW10,"ddd") -> Thu | CX9: =TEXT(CX10,"ddd") -> Fri | CY9: =TEXT(CY10,"ddd") -> Sat | CZ9: =TEXT(CZ10,"ddd") -> Sun | DA9: =TEXT(DA10,"ddd") -> Mon | ... DX9: =TEXT(DX10,"ddd") -> Wed | DZ9: =TEXT(DZ10,"ddd") -> Thu | EA9: =TEXT(EA10,"ddd") -> Fri | EB9: =TEXT(EB10,"ddd") -> Sat | EC9: =TEXT(EC10,"ddd") -> Sun | ED9: =TEXT(ED10,"ddd") -> Mon | EE9: =TEXT(EE10,"ddd") -> Tue | EF9: =TEXT(EF10,"ddd") -> Wed | EG9: =TEXT(EG10,"ddd") -> Thu | ... FD9: =TEXT(FD10,"ddd") -> Sat
B10: Start Date | C10: Capital Cash B/F | D10: 45901 | E10: =+D10+1 -> 45902 | F10: =+E10+1 -> 45903 | G10: =+F10+1 -> 45904 | H10: =+G10+1 -> 45905 | I10: =+H10+1 -> 45906 | J10: =+I10+1 -> 45907 | K10: =+J10+1 -> 45908 | L10: =+K10+1 -> 45909 | ... AG10: =+AF10+1 -> 45930 | AH10: September | AI10: =+AG10+1 -> 45931 | AJ10: =+AI10+1 -> 45932 | AK10: =+AJ10+1 -> 45933 | AL10: =+AK10+1 -> 45934 | AM10: =+AL10+1 -> 45935 | AN10: =+AM10+1 -> 45936 | AO10: =+AN10+1 -> 45937 | AP10: =+AO10+1 -> 45938 | AQ10: =+AP10+1 -> 45939 | ... BM10: =+BL10+1 -> 45961 | BN10: October | BO10: =+BM10+1 -> 45962 | BP10: =+BO10+1 -> 45963 | BQ10: =+BP10+1 -> 45964 | BR10: =+BQ10+1 -> 45965 | BS10: =+BR10+1 -> 45966 | BT10: =+BS10+1 -> 45967 | BU10: =+BT10+1 -> 45968 | BV10: =+BU10+1 -> 45969 | BW10: =+BV10+1 -> 45970 | ... CR10: =+CQ10+1 -> 45991 | CS10: November | CT10: =+CR10+1 -> 45992 | CU10: =+CT10+1 -> 45993 | CV10: =+CU10+1 -> 45994 | CW10: =+CV10+1 -> 45995 | CX10: =+CW10+1 -> 45996 | CY10: =+CX10+1 -> 45997 | CZ10: =+CY10+1 -> 45998 | DA10: =+CZ10+1 -> 45999 | DB10: =+DA10+1 -> 46000 | ... DX10: =+DW10+1 -> 46022 | DY10: December | DZ10: =+DX10+1 -> 46023 | EA10: =+DZ10+1 -> 46024 | EB10: =+EA10+1 -> 46025 | EC10: =+EB10+1 -> 46026 | ED10: =+EC10+1 -> 46027 | EE10: =+ED10+1 -> 46028 | EF10: =+EE10+1 -> 46029 | EG10: =+EF10+1 -> 46030 | EH10: =+EG10+1 -> 46031 | ... FD10: =+FC10+1 -> 46053 | FE10: January
D11: £000 | E11: £000 | F11: £000 | G11: £000 | H11: £000 | I11: £000 | J11: £000 | K11: £000 | L11: £000 | M11: £000 | N11: £000 | O11: £000 | P11: £000 | Q11: £000 | R11: £000 | S11: £000 | T11: £000 | U11: £000 | V11: £000 | W11: £000 | X11: £000 | Y11: £000 | Z11: £000 | AA11: £000 | AB11: £000 | AC11: £000 | AD11: £000 | AE11: £000 | AF11: £000 | AG11: £000 | AH11: £000 | AI11: £000 | AJ11: £000 | AK11: £000 | AL11: £000 | AM11: £000 | AN11: £000 | AO11: £000 | AP11: £000 | AQ11: £000 | AR11: £000 | AS11: £000 | AT11: £000 | AU11: £000 | AV11: £000 | AW11: £000 | AX11: £000 | AY11: £000 | AZ11: £000 | BA11: £000 | BB11: £000 | BC11: £000 | BD11: £000 | BE11: £000 | BF11: £000 | BG11: £000 | BH11: £000 | BI11: £000 | BJ11: £000 | BK11: £000 | BL11: £000 | BM11: £000 | BN11: £000 | BO11: £000 | BP11: £000 | BQ11: £000 | BR11: £000 | BS11: £000 | BT11: £000 | BU11: £000 | BV11: £000 | BW11: £000 | BX11: £000 | BY11: £000 | BZ11: £000 | CA11: £000 | CB11: £000 | CC11: £000 | CD11: £000 | CE11: £000 | CF11: £000 | CG11: £000 | CH11: £000 | CI11: £000 | CJ11: £000 | CK11: £000 | CL11: £000 | CM11: £000 | CN11: £000 | CO11: £000 | CP11: £000 | CQ11: £000 | CR11: £000 | CS11: £000 | CT11: £000 | CU11: £000 | CV11: £000 | CW11: £000 | CX11: £000 | CY11: £000 | CZ11: £000 | DA11: £000 | DB11: £000 | DC11: £000 | DD11: £000 | DE11: £000 | DF11: £000 | DG11: £000 | DH11: £000 | DI11: £000 | DJ11: £000 | DK11: £000 | DL11: £000 | DM11: £000 | DN11: £000 | DO11: £000 | DP11: £000 | DQ11: £000 | DR11: £000 | DS11: £000 | DT11: £000 | DU11: £000 | DV11: £000 | DW11: £000 | DX11: £000 | DY11: £000 | DZ11: £000 | EA11: £000 | EB11: £000 | EC11: £000 | ED11: £000 | EE11: £000 | EF11: £000 | EG11: £000 | EH11: £000 | EI11: £000 | EJ11: £000 | EK11: £000 | EL11: £000 | EM11: £000 | EN11: £000 | EO11: £000 | EP11: £000 | EQ11: £000 | ER11: £000 | ES11: £000 | ET11: £000 | EU11: £000 | EV11: £000 | EW11: £000 | EX11: £000 | EY11: £000 | EZ11: £000 | FA11: £000 | FB11: £000 | FC11: £000 | FD11: £000 | FE11: £000
B12: Total Capital Cash B/F | C12: 41614 | D12: =+C26 -> 41614 | E12: =+D26 -> 42471 | F12: =+E26 -> 42471 | G12: =+F26 -> 41971 | H12: =+G26 -> 41971 | I12: =+H26 -> 41971 | J12: =+I26 -> 41971 | K12: =+J26 -> 41971 | ... AG12: =+AF26 -> 41563 | AH12: =+D12 -> 41614 | AI12: =+AG26 -> 41563 | AJ12: =+AI26 -> 42443 | AK12: =+AJ26 -> 42443 | AL12: =+AK26 -> 41966 | AM12: =+AL26 -> 41966 | AN12: =+AM26 -> 41966 | AO12: =+AN26 -> 41966 | AP12: =+AO26 -> 41966 | AQ12: =+AP26 -> 41966 | ... BM12: =+BL26 -> 43351 | BN12: =+AH26 -> 41563 | BO12: =+BM26 -> 34993 | BP12: =+BO26 -> 34993 | BQ12: =+BP26 -> 34993 | BR12: =+BQ26 -> 34993 | BS12: =+BR26 -> 34993 | BT12: =+BS26 -> 34993 | BU12: =+BT26 -> 34993 | BV12: =+BU26 -> 34993 | BW12: =+BV26 -> 34993 | ... CR12: =+CQ26 -> 35007 | CS12: =+BN26 -> 34993 | CT12: =+CR26 -> 35007 | CU12: =+CT26 -> 35007 | CV12: =+CU26 -> 35007 | CW12: =+CV26 -> 35007 | CX12: =+CW26 -> 35007 | CY12: =+CX26 -> 35007 | CZ12: =+CY26 -> 35007 | DA12: =+CZ26 -> 35007 | DB12: =+DA26 -> 35007 | ... DX12: =+DW26 -> 35007 | DY12: =+CS26 -> 35007 | DZ12: =+DX26 -> 35007 | EA12: =+DZ26 -> 35007 | EB12: =+EA26 -> 35007 | EC12: =+EB26 -> 35007 | ED12: =+EC26 -> 35007 | EE12: =+ED26 -> 35007 | EF12: =+EE26 -> 35007 | EG12: =+EF26 -> 35007 | EH12: =+EG26 -> 35007 | ... FD12: =+FC26 -> 34967 | FE12: =+DY26 -> 35007
B13: RECEIPTS
A14: Receipts for Capital | B14: Capital PDC - National Programmes (via DHSC) | D14: 0 | E14: 0 | F14: 0 | G14: 0 | H14: 0 | I14: 0 | J14: 0 | K14: 0 | L14: 0 | M14: 0 | N14: 0 | O14: 0 | P14: 0 | Q14: 0 | R14: 0 | S14: 0 | T14: 0 | U14: 0 | V14: 0 | W14: 0 | X14: 0 | Y14: 0 | Z14: 0 | AA14: 0 | AB14: 0 | AC14: 0 | AD14: 0 | AE14: 0 | AF14: 391 | AG14: 0 | AH14: =SUM(D14:AG14) -> 391 | AI14: 0 | AJ14: 0 | AK14: 0 | AL14: 0 | AM14: 0 | AN14: 0 | AO14: 0 | AP14: 0 | AQ14: 0 | AR14: 0 | AS14: 0 | AT14: 0 | AU14: 0 | AV14: 0 | AW14: 0 | AX14: 0 | AY14: 0 | AZ14: 0 | BA14: 0 | BB14: 0 | BC14: 0 | BD14: 0 | BE14: 0 | BF14: 0 | BG14: 0 | BH14: 0 | BI14: 3926 | BJ14: 0 | BK14: 0 | BL14: 0 | BM14: 0 | BN14: =SUM(AI14:BM14) -> 3926 | BO14: 0 | BP14: 0 | BQ14: 0 | BR14: 0 | BS14: 0 | BT14: 0 | BU14: 0 | BV14: 0 | BW14: 0 | BX14: 0 | BY14: 0 | BZ14: 0 | CA14: 0 | CB14: 0 | CC14: 0 | CD14: 0 | CE14: 0 | CF14: 0 | CG14: 0 | CH14: 0 | CI14: 0 | CJ14: 0 | CK14: 0 | CL14: 0 | CM14: 0 | CN14: 0 | CO14: 2794 | CP14: 0 | CQ14: 0 | CR14: 0 | CS14: =SUM(BO14:CR14) -> 2794 | CT14: 0 | CU14: 0 | CV14: 0 | CW14: 0 | CX14: 0 | CY14: 0 | CZ14: 0 | DA14: 0 | DB14: 0 | DC14: 0 | DD14: 0 | DE14: 0 | DF14: 0 | DG14: 0 | DH14: 0 | DI14: 0 | DJ14: 0 | DK14: 0 | DL14: 0 | DM14: 0 | DN14: 0 | DO14: 0 | DP14: 0 | DQ14: 2794 | DR14: 0 | DS14: 0 | DT14: 0 | DU14: 0 | DV14: 0 | DW14: 0 | DX14: 0 | DY14: =SUM(CT14:DX14) -> 2794 | DZ14: 0 | EA14: 0 | EB14: 0 | EC14: 0 | ED14: 0 | EE14: 0 | EF14: 0 | EG14: 0 | EH14: 0 | EI14: 0 | EJ14: 0 | EK14: 0 | EL14: 0 | EM14: 0 | EN14: 0 | EO14: 0 | EP14: 0 | EQ14: 0 | ER14: 0 | ES14: 0 | ET14: 0 | EU14: 0 | EV14: 0 | EW14: 0 | EX14: 0 | EY14: 0 | EZ14: 2750 | FA14: 0 | FB14: 0 | FC14: 0 | FD14: 0 | FE14: =SUM(DZ14:FD14) -> 2750
A15: Receipts for Capital | B15: Depreciation (via Tariff Funding) | D15: 857 | E15: 0 | F15: 0 | G15: 0 | H15: 0 | I15: 0 | J15: 0 | K15: 0 | L15: 0 | M15: 0 | N15: 0 | O15: 0 | P15: 0 | Q15: 0 | R15: 0 | S15: 0 | T15: 0 | U15: 0 | V15: 0 | W15: 0 | X15: 0 | Y15: 0 | Z15: 0 | AA15: 0 | AB15: 0 | AC15: 0 | AD15: 0 | AE15: 0 | AF15: 0 | AG15: 0 | AH15: =SUM(D15:AG15) -> 857 | AI15: 880 | AJ15: 0 | AK15: 0 | AL15: 0 | AM15: 0 | AN15: 0 | AO15: 0 | AP15: 0 | AQ15: 0 | AR15: 0 | AS15: 0 | AT15: 0 | AU15: 0 | AV15: 0 | AW15: 0 | AX15: 0 | AY15: 0 | AZ15: 0 | BA15: 0 | BB15: 0 | BC15: 0 | BD15: 0 | BE15: 0 | BF15: 0 | BG15: 0 | BH15: 0 | BI15: 0 | BJ15: 0 | BK15: 0 | BL15: 0 | BM15: 0 | BN15: =SUM(AI15:BM15) -> 880 | BO15: 0 | BP15: 0 | BQ15: 794 | BR15: 0 | BS15: 0 | BT15: 0 | BU15: 0 | BV15: 0 | BW15: 0 | BX15: 0 | BY15: 0 | BZ15: 0 | CA15: 0 | CB15: 0 | CC15: 0 | CD15: 0 | CE15: 0 | CF15: 0 | CG15: 0 | CH15: 0 | CI15: 0 | CJ15: 0 | CK15: 0 | CL15: 0 | CM15: 0 | CN15: 0 | CO15: 0 | CP15: 0 | CQ15: 0 | CR15: 0 | CS15: =SUM(BO15:CR15) -> 794 | CT15: 798 | CU15: 0 | CV15: 0 | CW15: 0 | CX15: 0 | CY15: 0 | CZ15: 0 | DA15: 0 | DB15: 0 | DC15: 0 | DD15: 0 | DE15: 0 | DF15: 0 | DG15: 0 | DH15: 0 | DI15: 0 | DJ15: 0 | DK15: 0 | DL15: 0 | DM15: 0 | DN15: 0 | DO15: 0 | DP15: 0 | DQ15: 0 | DR15: 0 | DS15: 0 | DT15: 0 | DU15: 0 | DV15: 0 | DW15: 0 | DX15: 0 | DY15: =SUM(CT15:DX15) -> 798 | DZ15: 0 | EA15: 955 | EB15: 0 | EC15: 0 | ED15: 0 | EE15: 0 | EF15: 0 | EG15: 0 | EH15: 0 | EI15: 0 | EJ15: 0 | EK15: 0 | EL15: 0 | EM15: 0 | EN15: 0 | EO15: 0 | EP15: 0 | EQ15: 0 | ER15: 0 | ES15: 0 | ET15: 0 | EU15: 0 | EV15: 0 | EW15: 0 | EX15: 0 | EY15: 0 | EZ15: 0 | FA15: 0 | FB15: 0 | FC15: 0 | FD15: 0 | FE15: =SUM(DZ15:FD15) -> 955
A16: Receipts for Capital | B16: System Capital Support PDC (Via DHSC) | D16: 0 | E16: 0 | F16: 0 | G16: 0 | H16: 0 | I16: 0 | J16: 0 | K16: 0 | L16: 0 | M16: 0 | N16: 0 | O16: 0 | P16: 0 | Q16: 0 | R16: 0 | S16: 0 | T16: 0 | U16: 0 | V16: 0 | W16: 0 | X16: 0 | Y16: 0 | Z16: 0 | AA16: 0 | AB16: 0 | AC16: 0 | AD16: 0 | AE16: 0 | AF16: 0 | AG16: 0 | AH16: =SUM(D16:AG16) -> 0 | AI16: 0 | AJ16: 0 | AK16: 0 | AL16: 0 | AM16: 0 | AN16: 0 | AO16: 0 | AP16: 0 | AQ16: 0 | AR16: 0 | AS16: 0 | AT16: 0 | AU16: 0 | AV16: 0 | AW16: 0 | AX16: 0 | AY16: 0 | AZ16: 0 | BA16: 0 | BB16: 0 | BC16: 0 | BD16: 0 | BE16: 0 | BF16: 0 | BG16: 0 | BH16: 0 | BI16: 0 | BJ16: 0 | BK16: 0 | BL16: 0 | BM16: 0 | BN16: =SUM(AI16:BM16) -> 0 | BO16: 0 | BP16: 0 | BQ16: 0 | BR16: 0 | BS16: 0 | BT16: 0 | BU16: 0 | BV16: 0 | BW16: 0 | BX16: 0 | BY16: 0 | BZ16: 0 | CA16: 0 | CB16: 0 | CC16: 0 | CD16: 0 | CE16: 0 | CF16: 0 | CG16: 0 | CH16: 0 | CI16: 0 | CJ16: 0 | CK16: 0 | CL16: 0 | CM16: 0 | CN16: 0 | CO16: 0 | CP16: 0 | CQ16: 0 | CR16: 0 | CS16: =SUM(BO16:CR16) -> 0 | CT16: 0 | CU16: 0 | CV16: 0 | CW16: 0 | CX16: 0 | CY16: 0 | CZ16: 0 | DA16: 0 | DB16: 0 | DC16: 0 | DD16: 0 | DE16: 0 | DF16: 0 | DG16: 0 | DH16: 0 | DI16: 0 | DJ16: 0 | DK16: 0 | DL16: 0 | DM16: 0 | DN16: 0 | DO16: 0 | DP16: 0 | DQ16: 0 | DR16: 0 | DS16: 0 | DT16: 0 | DU16: 0 | DV16: 0 | DW16: 0 | DX16: 0 | DY16: =SUM(CT16:DX16) -> 0 | DZ16: 0 | EA16: 0 | EB16: 0 | EC16: 0 | ED16: 0 | EE16: 0 | EF16: 0 | EG16: 0 | EH16: 0 | EI16: 0 | EJ16: 0 | EK16: 0 | EL16: 0 | EM16: 0 | EN16: 0 | EO16: 0 | EP16: 0 | EQ16: 0 | ER16: 0 | ES16: 0 | ET16: 0 | EU16: 0 | EV16: 0 | EW16: 0 | EX16: 0 | EY16: 0 | EZ16: 0 | FA16: 0 | FB16: 0 | FC16: 0 | FD16: 0 | FE16: =SUM(DZ16:FD16) -> 0
A17: Receipts for Capital | B17: Other Capital Funding (Reserves, Donations, etc.) | D17: 0 | E17: 0 | F17: 0 | G17: 0 | H17: 0 | I17: 0 | J17: 0 | K17: 0 | L17: 0 | M17: 0 | N17: 0 | O17: 0 | P17: 0 | Q17: 0 | R17: 0 | S17: 0 | T17: 0 | U17: 0 | V17: 0 | W17: 0 | X17: 0 | Y17: 0 | Z17: 0 | AA17: 0 | AB17: 0 | AC17: 0 | AD17: 0 | AE17: 0 | AF17: 0 | AG17: 0 | AH17: =SUM(D17:AG17) -> 0 | AI17: 0 | AJ17: 0 | AK17: 0 | AL17: 0 | AM17: 0 | AN17: 0 | AO17: 0 | AP17: 0 | AQ17: 0 | AR17: 0 | AS17: 0 | AT17: 0 | AU17: 0 | AV17: 0 | AW17: 0 | AX17: 0 | AY17: 0 | AZ17: 0 | BA17: 0 | BB17: 0 | BC17: 0 | BD17: 0 | BE17: 0 | BF17: 0 | BG17: 0 | BH17: 0 | BI17: 0 | BJ17: 0 | BK17: 0 | BL17: 0 | BM17: 0 | BN17: =SUM(AI17:BM17) -> 0 | BO17: 0 | BP17: 0 | BQ17: 0 | BR17: 0 | BS17: 0 | BT17: 0 | BU17: 0 | BV17: 0 | BW17: 0 | BX17: 0 | BY17: 0 | BZ17: 0 | CA17: 0 | CB17: 0 | CC17: 0 | CD17: 0 | CE17: 0 | CF17: 0 | CG17: 0 | CH17: 0 | CI17: 0 | CJ17: 0 | CK17: 0 | CL17: 0 | CM17: 0 | CN17: 0 | CO17: 0 | CP17: 0 | CQ17: 0 | CR17: 0 | CS17: =SUM(BO17:CR17) -> 0 | CT17: 0 | CU17: 0 | CV17: 0 | CW17: 0 | CX17: 0 | CY17: 0 | CZ17: 0 | DA17: 0 | DB17: 0 | DC17: 0 | DD17: 0 | DE17: 0 | DF17: 0 | DG17: 0 | DH17: 0 | DI17: 0 | DJ17: 0 | DK17: 0 | DL17: 0 | DM17: 0 | DN17: 0 | DO17: 0 | DP17: 0 | DQ17: 0 | DR17: 0 | DS17: 0 | DT17: 0 | DU17: 0 | DV17: 0 | DW17: 0 | DX17: 0 | DY17: =SUM(CT17:DX17) -> 0 | DZ17: 0 | EA17: 0 | EB17: 0 | EC17: 0 | ED17: 0 | EE17: 0 | EF17: 0 | EG17: 0 | EH17: 0 | EI17: 0 | EJ17: 0 | EK17: 0 | EL17: 0 | EM17: 0 | EN17: 0 | EO17: 0 | EP17: 0 | EQ17: 0 | ER17: 0 | ES17: 0 | ET17: 0 | EU17: 0 | EV17: 0 | EW17: 0 | EX17: 0 | EY17: 0 | EZ17: 0 | FA17: 0 | FB17: 0 | FC17: 0 | FD17: 0 | FE17: =SUM(DZ17:FD17) -> 0
B18: Total receipts | C18: =SUM(C14:C17) -> 0 | D18: =SUM(D14:D17) -> 857 | E18: =SUM(E14:E17) -> 0 | F18: =SUM(F14:F17) -> 0 | G18: =SUM(G14:G17) -> 0 | H18: =SUM(H14:H17) -> 0 | I18: =SUM(I14:I17) -> 0 | J18: =SUM(J14:J17) -> 0 | ... FE18: =SUM(FE14:FE17) -> 3705
B19: PAYMENTS
A20: Capital Payments | B20: Capital Expenditure - Capital PDC | D20: 0 | E20: 0 | F20: 0 | G20: 0 | H20: 0 | I20: 0 | J20: 0 | K20: 0 | L20: 0 | M20: 0 | N20: 0 | O20: 0 | P20: 0 | Q20: 0 | R20: 0 | S20: 0 | T20: 0 | U20: 0 | V20: 0 | W20: 0 | X20: 0 | Y20: 0 | Z20: 0 | AA20: 0 | AB20: 0 | AC20: 0 | AD20: 0 | AE20: 0 | AF20: 0 | AG20: 0 | AH20: =SUM(D20:AG20) -> 0 | AI20: 0 | AJ20: 0 | AK20: 0 | AL20: 0 | AM20: 0 | AN20: 0 | AO20: 0 | AP20: 0 | AQ20: 0 | AR20: 0 | AS20: 0 | AT20: 0 | AU20: 0 | AV20: 0 | AW20: 2423 | AX20: 0 | AY20: 0 | AZ20: 0 | BA20: 0 | BB20: 0 | BC20: 0 | BD20: 0 | BE20: 0 | BF20: 0 | BG20: 0 | BH20: 0 | BI20: 0 | BJ20: 0 | BK20: 0 | BL20: 0 | BM20: 6091 | BN20: =SUM(AI20:BM20) -> 8514 | BO20: 0 | BP20: 0 | BQ20: 0 | BR20: 0 | BS20: 0 | BT20: 0 | BU20: 0 | BV20: 0 | BW20: 0 | BX20: 0 | BY20: 0 | BZ20: 0 | CA20: 0 | CB20: 0 | CC20: 0 | CD20: 0 | CE20: 2767 | CF20: 0 | CG20: 0 | CH20: 0 | CI20: 0 | CJ20: 0 | CK20: 0 | CL20: 0 | CM20: 0 | CN20: 0 | CO20: 0 | CP20: 0 | CQ20: 0 | CR20: 0 | CS20: =SUM(BO20:CR20) -> 2767 | CT20: 0 | CU20: 0 | CV20: 0 | CW20: 0 | CX20: 0 | CY20: 0 | CZ20: 0 | DA20: 0 | DB20: 0 | DC20: 0 | DD20: 0 | DE20: 0 | DF20: 0 | DG20: 0 | DH20: 2794 | DI20: 0 | DJ20: 0 | DK20: 0 | DL20: 0 | DM20: 0 | DN20: 0 | DO20: 0 | DP20: 0 | DQ20: 0 | DR20: 0 | DS20: 0 | DT20: 0 | DU20: 0 | DV20: 0 | DW20: 0 | DX20: 0 | DY20: =SUM(CT20:DX20) -> 2794 | DZ20: 0 | EA20: 0 | EB20: 0 | EC20: 0 | ED20: 0 | EE20: 0 | EF20: 0 | EG20: 0 | EH20: 0 | EI20: 0 | EJ20: 0 | EK20: 0 | EL20: 0 | EM20: 0 | EN20: 2790 | EO20: 0 | EP20: 0 | EQ20: 0 | ER20: 0 | ES20: 0 | ET20: 0 | EU20: 0 | EV20: 0 | EW20: 0 | EX20: 0 | EY20: 0 | EZ20: 0 | FA20: 0 | FB20: 0 | FC20: 0 | FD20: 0 | FE20: =SUM(DZ20:FD20) -> 2790
A21: Capital Payments | B21: Capital Expenditure - Depreciation | D21: 0 | E21: 0 | F21: 500 | G21: 0 | H21: 0 | I21: 0 | J21: 0 | K21: 0 | L21: 0 | M21: 0 | N21: 0 | O21: 484 | P21: 0 | Q21: 0 | R21: 0 | S21: 0 | T21: 0 | U21: 0 | V21: 315 | W21: 0 | X21: 0 | Y21: 0 | Z21: 0 | AA21: 0 | AB21: 0 | AC21: 0 | AD21: 0 | AE21: 0 | AF21: 0 | AG21: 0 | AH21: =SUM(D21:AG21) -> 1299 | AI21: 0 | AJ21: 0 | AK21: 477 | AL21: 0 | AM21: 0 | AN21: 0 | AO21: 0 | AP21: 0 | AQ21: 0 | AR21: 0 | AS21: 0 | AT21: 0 | AU21: 0 | AV21: 0 | AW21: 0 | AX21: 0 | AY21: 0 | AZ21: 0 | BA21: 0 | BB21: 0 | BC21: 0 | BD21: 0 | BE21: 0 | BF21: 0 | BG21: 0 | BH21: 0 | BI21: 0 | BJ21: 0 | BK21: 0 | BL21: 0 | BM21: 1967 | BN21: =SUM(AI21:BM21) -> 2444 | BO21: 0 | BP21: 0 | BQ21: 794 | BR21: 0 | BS21: 0 | BT21: 0 | BU21: 0 | BV21: 0 | BW21: 0 | BX21: 0 | BY21: 0 | BZ21: 0 | CA21: 0 | CB21: 0 | CC21: 0 | CD21: 0 | CE21: 0 | CF21: 0 | CG21: 0 | CH21: 0 | CI21: 0 | CJ21: 0 | CK21: 0 | CL21: 0 | CM21: 0 | CN21: 0 | CO21: 0 | CP21: 0 | CQ21: 0 | CR21: 0 | CS21: =SUM(BO21:CR21) -> 794 | CT21: 798 | CU21: 0 | CV21: 0 | CW21: 0 | CX21: 0 | CY21: 0 | CZ21: 0 | DA21: 0 | DB21: 0 | DC21: 0 | DD21: 0 | DE21: 0 | DF21: 0 | DG21: 0 | DH21: 0 | DI21: 0 | DJ21: 0 | DK21: 0 | DL21: 0 | DM21: 0 | DN21: 0 | DO21: 0 | DP21: 0 | DQ21: 0 | DR21: 0 | DS21: 0 | DT21: 0 | DU21: 0 | DV21: 0 | DW21: 0 | DX21: 0 | DY21: =SUM(CT21:DX21) -> 798 | DZ21: 0 | EA21: 955 | EB21: 0 | EC21: 0 | ED21: 0 | EE21: 0 | EF21: 0 | EG21: 0 | EH21: 0 | EI21: 0 | EJ21: 0 | EK21: 0 | EL21: 0 | EM21: 0 | EN21: 0 | EO21: 0 | EP21: 0 | EQ21: 0 | ER21: 0 | ES21: 0 | ET21: 0 | EU21: 0 | EV21: 0 | EW21: 0 | EX21: 0 | EY21: 0 | EZ21: 0 | FA21: 0 | FB21: 0 | FC21: 0 | FD21: 0 | FE21: =SUM(DZ21:FD21) -> 955
A22: Capital Payments | B22: Capital Expenditure - System Capital Support | D22: 0 | E22: 0 | F22: 0 | G22: 0 | H22: 0 | I22: 0 | J22: 0 | K22: 0 | L22: 0 | M22: 0 | N22: 0 | O22: 0 | P22: 0 | Q22: 0 | R22: 0 | S22: 0 | T22: 0 | U22: 0 | V22: 0 | W22: 0 | X22: 0 | Y22: 0 | Z22: 0 | AA22: 0 | AB22: 0 | AC22: 0 | AD22: 0 | AE22: 0 | AF22: 0 | AG22: 0 | AH22: =SUM(D22:AG22) -> 0 | AI22: 0 | AJ22: 0 | AK22: 0 | AL22: 0 | AM22: 0 | AN22: 0 | AO22: 0 | AP22: 0 | AQ22: 0 | AR22: 0 | AS22: 0 | AT22: 0 | AU22: 0 | AV22: 0 | AW22: 0 | AX22: 0 | AY22: 0 | AZ22: 0 | BA22: 0 | BB22: 0 | BC22: 0 | BD22: 0 | BE22: 0 | BF22: 0 | BG22: 0 | BH22: 0 | BI22: 0 | BJ22: 0 | BK22: 0 | BL22: 0 | BM22: 0 | BN22: =SUM(AI22:BM22) -> 0 | BO22: 0 | BP22: 0 | BQ22: 0 | BR22: 0 | BS22: 0 | BT22: 0 | BU22: 0 | BV22: 0 | BW22: 0 | BX22: 0 | BY22: 0 | BZ22: 0 | CA22: 0 | CB22: 0 | CC22: 0 | CD22: 0 | CE22: 0 | CF22: 0 | CG22: 0 | CH22: 0 | CI22: 0 | CJ22: 0 | CK22: 0 | CL22: 0 | CM22: 0 | CN22: 0 | CO22: 0 | CP22: 0 | CQ22: 0 | CR22: 0 | CS22: =SUM(BO22:CR22) -> 0 | CT22: 0 | CU22: 0 | CV22: 0 | CW22: 0 | CX22: 0 | CY22: 0 | CZ22: 0 | DA22: 0 | DB22: 0 | DC22: 0 | DD22: 0 | DE22: 0 | DF22: 0 | DG22: 0 | DH22: 0 | DI22: 0 | DJ22: 0 | DK22: 0 | DL22: 0 | DM22: 0 | DN22: 0 | DO22: 0 | DP22: 0 | DQ22: 0 | DR22: 0 | DS22: 0 | DT22: 0 | DU22: 0 | DV22: 0 | DW22: 0 | DX22: 0 | DY22: =SUM(CT22:DX22) -> 0 | DZ22: 0 | EA22: 0 | EB22: 0 | EC22: 0 | ED22: 0 | EE22: 0 | EF22: 0 | EG22: 0 | EH22: 0 | EI22: 0 | EJ22: 0 | EK22: 0 | EL22: 0 | EM22: 0 | EN22: 0 | EO22: 0 | EP22: 0 | EQ22: 0 | ER22: 0 | ES22: 0 | ET22: 0 | EU22: 0 | EV22: 0 | EW22: 0 | EX22: 0 | EY22: 0 | EZ22: 0 | FA22: 0 | FB22: 0 | FC22: 0 | FD22: 0 | FE22: =SUM(DZ22:FD22) -> 0
A23: Capital Payments | B23: Capital Expenditure - Other | D23: 0 | E23: 0 | F23: 0 | G23: 0 | H23: 0 | I23: 0 | J23: 0 | K23: 0 | L23: 0 | M23: 0 | N23: 0 | O23: 0 | P23: 0 | Q23: 0 | R23: 0 | S23: 0 | T23: 0 | U23: 0 | V23: 0 | W23: 0 | X23: 0 | Y23: 0 | Z23: 0 | AA23: 0 | AB23: 0 | AC23: 0 | AD23: 0 | AE23: 0 | AF23: 0 | AG23: 0 | AH23: =SUM(D23:AG23) -> 0 | AI23: 0 | AJ23: 0 | AK23: 0 | AL23: 0 | AM23: 0 | AN23: 0 | AO23: 0 | AP23: 0 | AQ23: 0 | AR23: 0 | AS23: 0 | AT23: 0 | AU23: 0 | AV23: 0 | AW23: 118 | AX23: 0 | AY23: 0 | AZ23: 0 | BA23: 0 | BB23: 0 | BC23: 0 | BD23: 0 | BE23: 0 | BF23: 0 | BG23: 0 | BH23: 0 | BI23: 0 | BJ23: 0 | BK23: 0 | BL23: 0 | BM23: 300 | BN23: =SUM(AI23:BM23) -> 418 | BO23: 0 | BP23: 0 | BQ23: 0 | BR23: 0 | BS23: 0 | BT23: 0 | BU23: 0 | BV23: 0 | BW23: 0 | BX23: 0 | BY23: 0 | BZ23: 0 | CA23: 0 | CB23: 0 | CC23: 0 | CD23: 0 | CE23: 13 | CF23: 0 | CG23: 0 | CH23: 0 | CI23: 0 | CJ23: 0 | CK23: 0 | CL23: 0 | CM23: 0 | CN23: 0 | CO23: 0 | CP23: 0 | CQ23: 0 | CR23: 0 | CS23: =SUM(BO23:CR23) -> 13 | CT23: 0 | CU23: 0 | CV23: 0 | CW23: 0 | CX23: 0 | CY23: 0 | CZ23: 0 | DA23: 0 | DB23: 0 | DC23: 0 | DD23: 0 | DE23: 0 | DF23: 0 | DG23: 0 | DH23: 0 | DI23: 0 | DJ23: 0 | DK23: 0 | DL23: 0 | DM23: 0 | DN23: 0 | DO23: 0 | DP23: 0 | DQ23: 0 | DR23: 0 | DS23: 0 | DT23: 0 | DU23: 0 | DV23: 0 | DW23: 0 | DX23: 0 | DY23: =SUM(CT23:DX23) -> 0 | DZ23: 0 | EA23: 0 | EB23: 0 | EC23: 0 | ED23: 0 | EE23: 0 | EF23: 0 | EG23: 0 | EH23: 0 | EI23: 0 | EJ23: 0 | EK23: 0 | EL23: 0 | EM23: 0 | EN23: 0 | EO23: 0 | EP23: 0 | EQ23: 0 | ER23: 0 | ES23: 0 | ET23: 0 | EU23: 0 | EV23: 0 | EW23: 0 | EX23: 0 | EY23: 0 | EZ23: 0 | FA23: 0 | FB23: 0 | FC23: 0 | FD23: 0 | FE23: =SUM(DZ23:FD23) -> 0
B24: Total Payments | C24: =SUM(C20:C23) -> 0 | D24: =SUM(D20:D23) -> 0 | E24: =SUM(E20:E23) -> 0 | F24: =SUM(F20:F23) -> 500 | G24: =SUM(G20:G23) -> 0 | H24: =SUM(H20:H23) -> 0 | I24: =SUM(I20:I23) -> 0 | J24: =SUM(J20:J23) -> 0 | ... FE24: =SUM(FE20:FE23) -> 3745
B25: Net Movement | C25: =+C18-C24 -> 0 | D25: =+D18-D24 -> 857 | E25: =+E18-E24 -> 0 | F25: =+F18-F24 -> -500 | G25: =+G18-G24 -> 0 | H25: =+H18-H24 -> 0 | I25: =+I18-I24 -> 0 | J25: =+J18-J24 -> 0 | ... FE25: =+FE18-FE24 -> -40
B26: Cash Balance | C26: =C12+C25 -> 41614 | D26: =D12+D25 -> 42471 | E26: =E12+E25 -> 42471 | F26: =F12+F25 -> 41971 | G26: =G12+G25 -> 41971 | H26: =H12+H25 -> 41971 | I26: =I12+I25 -> 41971 | J26: =J12+J25 -> 41971 | ... FE26: =FE12+FE25 -> 34967
AH27: =+AG26-AH26 -> 0 | BN27: =+BM26-BN26 -> 0 | CS27: =+CR26-CS26 -> 0 | DY27: =+DX26-DY26 -> 0 | FE27: =+FD26-FE26 -> 0
B28: Cross Cast Checks | D28: =SUM(D12,D14:D17)-SUM(D20:D23)-D26 -> 0 | E28: =SUM(E12,E14:E17)-SUM(E20:E23)-E26 -> 0 | F28: =SUM(F12,F14:F17)-SUM(F20:F23)-F26 -> 0 | G28: =SUM(G12,G14:G17)-SUM(G20:G23)-G26 -> 0 | H28: =SUM(H12,H14:H17)-SUM(H20:H23)-H26 -> 0 | I28: =SUM(I12,I14:I17)-SUM(I20:I23)-I26 -> 0 | J28: =SUM(J12,J14:J17)-SUM(J20:J23)-J26 -> 0 | K28: =SUM(K12,K14:K17)-SUM(K20:K23)-K26 -> 0 | ... FE28: =SUM(FE12,FE14:FE17)-SUM(FE20:FE23)-FE26 -> 0
B29: Minimum Cash Balances | BA29: Min | BB29: =MIN(R26:BA26) -> 39425 | CD29: Min | CE29: =MIN(BB26:CD26) -> 34993 | DG29: Min | DH29: =MIN(CE26:DG26) -> 32213 | EQ29: Min | ER29: =MIN(DH26:EQ26) -> 32213
B30: Capital PDC Balance | C30: =C14 -> 0 | D30: =SUM(D14,C30)-D20 -> 0 | E30: =SUM(E14,D30)-E20 -> 0 | F30: =SUM(F14,E30)-F20 -> 0 | G30: =SUM(G14,F30)-G20 -> 0 | H30: =SUM(H14,G30)-H20 -> 0 | I30: =SUM(I14,H30)-I20 -> 0 | J30: =SUM(J14,I30)-J20 -> 0 | K30: =SUM(K14,J30)-K20 -> 0 | ... AG30: =SUM(AG14,AF30)-AG20 -> 391 | AH30: =SUM(AH14,C30)-AH20 -> 391 | AI30: =SUM(AI14,AG30)-AI20 -> 391 | AJ30: =SUM(AJ14,AI30)-AJ20 -> 391 | AK30: =SUM(AK14,AJ30)-AK20 -> 391 | AL30: =SUM(AL14,AK30)-AL20 -> 391 | AM30: =SUM(AM14,AL30)-AM20 -> 391 | AN30: =SUM(AN14,AM30)-AN20 -> 391 | AO30: =SUM(AO14,AN30)-AO20 -> 391 | AP30: =SUM(AP14,AO30)-AP20 -> 391 | AQ30: =SUM(AQ14,AP30)-AQ20 -> 391 | ... BM30: =SUM(BM14,BL30)-BM20 -> -4197 | BN30: =SUM(BN14,AH30)-BN20 -> -4197 | BO30: =SUM(BO14,BM30)-BO20 -> -4197 | BP30: =SUM(BP14,BO30)-BP20 -> -4197 | BQ30: =SUM(BQ14,BP30)-BQ20 -> -4197 | BR30: =SUM(BR14,BQ30)-BR20 -> -4197 | BS30: =SUM(BS14,BR30)-BS20 -> -4197 | BT30: =SUM(BT14,BS30)-BT20 -> -4197 | BU30: =SUM(BU14,BT30)-BU20 -> -4197 | BV30: =SUM(BV14,BU30)-BV20 -> -4197 | BW30: =SUM(BW14,BV30)-BW20 -> -4197 | ... CR30: =SUM(CR14,CQ30)-CR20 -> -4170 | CS30: =SUM(CS14,BN30)-CS20 -> -4170 | CT30: =SUM(CT14,CR30)-CT20 -> -4170 | CU30: =SUM(CU14,CT30)-CU20 -> -4170 | CV30: =SUM(CV14,CU30)-CV20 -> -4170 | CW30: =SUM(CW14,CV30)-CW20 -> -4170 | CX30: =SUM(CX14,CW30)-CX20 -> -4170 | CY30: =SUM(CY14,CX30)-CY20 -> -4170 | CZ30: =SUM(CZ14,CY30)-CZ20 -> -4170 | DA30: =SUM(DA14,CZ30)-DA20 -> -4170 | DB30: =SUM(DB14,DA30)-DB20 -> -4170 | ... DX30: =SUM(DX14,DW30)-DX20 -> -4170 | DY30: =SUM(DY14,CS30)-DY20 -> -4170 | DZ30: =SUM(DZ14,DX30)-DZ20 -> -4170 | EA30: =SUM(EA14,DZ30)-EA20 -> -4170 | EB30: =SUM(EB14,EA30)-EB20 -> -4170 | EC30: =SUM(EC14,EB30)-EC20 -> -4170 | ED30: =SUM(ED14,EC30)-ED20 -> -4170 | EE30: =SUM(EE14,ED30)-EE20 -> -4170 | EF30: =SUM(EF14,EE30)-EF20 -> -4170 | EG30: =SUM(EG14,EF30)-EG20 -> -4170 | EH30: =SUM(EH14,EG30)-EH20 -> -4170 | ... FD30: =SUM(FD14,FC30)-FD20 -> -4210 | FE30: =SUM(FE14,DY30)-FE20 -> -4210
B31: Depreciation Cash Balance | C31: =C15 -> 0 | D31: =SUM(D15,C31)-D21 -> 857 | E31: =SUM(E15,D31)-E21 -> 857 | F31: =SUM(F15,E31)-F21 -> 357 | G31: =SUM(G15,F31)-G21 -> 357 | H31: =SUM(H15,G31)-H21 -> 357 | I31: =SUM(I15,H31)-I21 -> 357 | J31: =SUM(J15,I31)-J21 -> 357 | K31: =SUM(K15,J31)-K21 -> 357 | ... AG31: =SUM(AG15,AF31)-AG21 -> -442 | AH31: =SUM(AH15,C31)-AH21 -> -442 | AI31: =SUM(AI15,AG31)-AI21 -> 438 | AJ31: =SUM(AJ15,AI31)-AJ21 -> 438 | AK31: =SUM(AK15,AJ31)-AK21 -> -39 | AL31: =SUM(AL15,AK31)-AL21 -> -39 | AM31: =SUM(AM15,AL31)-AM21 -> -39 | AN31: =SUM(AN15,AM31)-AN21 -> -39 | AO31: =SUM(AO15,AN31)-AO21 -> -39 | AP31: =SUM(AP15,AO31)-AP21 -> -39 | AQ31: =SUM(AQ15,AP31)-AQ21 -> -39 | ... BM31: =SUM(BM15,BL31)-BM21 -> -2006 | BN31: =SUM(BN15,AH31)-BN21 -> -2006 | BO31: =SUM(BO15,BM31)-BO21 -> -2006 | BP31: =SUM(BP15,BO31)-BP21 -> -2006 | BQ31: =SUM(BQ15,BP31)-BQ21 -> -2006 | BR31: =SUM(BR15,BQ31)-BR21 -> -2006 | BS31: =SUM(BS15,BR31)-BS21 -> -2006 | BT31: =SUM(BT15,BS31)-BT21 -> -2006 | BU31: =SUM(BU15,BT31)-BU21 -> -2006 | BV31: =SUM(BV15,BU31)-BV21 -> -2006 | BW31: =SUM(BW15,BV31)-BW21 -> -2006 | ... CR31: =SUM(CR15,CQ31)-CR21 -> -2006 | CS31: =SUM(CS15,BN31)-CS21 -> -2006 | CT31: =SUM(CT15,CR31)-CT21 -> -2006 | CU31: =SUM(CU15,CT31)-CU21 -> -2006 | CV31: =SUM(CV15,CU31)-CV21 -> -2006 | CW31: =SUM(CW15,CV31)-CW21 -> -2006 | CX31: =SUM(CX15,CW31)-CX21 -> -2006 | CY31: =SUM(CY15,CX31)-CY21 -> -2006 | CZ31: =SUM(CZ15,CY31)-CZ21 -> -2006 | DA31: =SUM(DA15,CZ31)-DA21 -> -2006 | DB31: =SUM(DB15,DA31)-DB21 -> -2006 | ... DX31: =SUM(DX15,DW31)-DX21 -> -2006 | DY31: =SUM(DY15,CS31)-DY21 -> -2006 | DZ31: =SUM(DZ15,DX31)-DZ21 -> -2006 | EA31: =SUM(EA15,DZ31)-EA21 -> -2006 | EB31: =SUM(EB15,EA31)-EB21 -> -2006 | EC31: =SUM(EC15,EB31)-EC21 -> -2006 | ED31: =SUM(ED15,EC31)-ED21 -> -2006 | EE31: =SUM(EE15,ED31)-EE21 -> -2006 | EF31: =SUM(EF15,EE31)-EF21 -> -2006 | EG31: =SUM(EG15,EF31)-EG21 -> -2006 | EH31: =SUM(EH15,EG31)-EH21 -> -2006 | ... FD31: =SUM(FD15,FC31)-FD21 -> -2006 | FE31: =SUM(FE15,DY31)-FE21 -> -2006
C33: =CONCATENATE("B/F "&TEXT(D10,"DD/MM/YYY")) -> B/F 01/09/2025 | AH33: =CONCATENATE("C/F "&TEXT(AG10,"DD/MM/YYY")) -> C/F 30/09/2025 | BN33: =CONCATENATE("C/F "&TEXT(BM10,"DD/MM/YYY")) -> C/F 31/10/2025 | CS33: =CONCATENATE("C/F "&TEXT(CR10,"DD/MM/YYY")) -> C/F 30/11/2025 | DY33: =CONCATENATE("C/F "&TEXT(DX10,"DD/MM/YYY")) -> C/F 31/12/2025 | FE33: =CONCATENATE("C/F "&TEXT(FD10,"DD/MM/YYY")) -> C/F 31/01/2026
B34: Capital Payables (at Each Month-End) | C34: 9801 | AH34: 12992 | BN34: 13854 | CS34: 12081 | DY34: 13648 | FE34: 11281
B36: Revenue Cashflow
D37: =TEXT(D38,"ddd") -> Mon | E37: =TEXT(E38,"ddd") -> Tue | F37: =TEXT(F38,"ddd") -> Wed | G37: =TEXT(G38,"ddd") -> Thu | H37: =TEXT(H38,"ddd") -> Fri | I37: =TEXT(I38,"ddd") -> Sat | J37: =TEXT(J38,"ddd") -> Sun | K37: =TEXT(K38,"ddd") -> Mon | ... AG37: =TEXT(AG38,"ddd") -> Tue | AI37: =TEXT(AI38,"ddd") -> Wed | AJ37: =TEXT(AJ38,"ddd") -> Thu | AK37: =TEXT(AK38,"ddd") -> Fri | AL37: =TEXT(AL38,"ddd") -> Sat | AM37: =TEXT(AM38,"ddd") -> Sun | AN37: =TEXT(AN38,"ddd") -> Mon | AO37: =TEXT(AO38,"ddd") -> Tue | AP37: =TEXT(AP38,"ddd") -> Wed | ... BM37: =TEXT(BM38,"ddd") -> Fri | BO37: =TEXT(BO38,"ddd") -> Sat | BP37: =TEXT(BP38,"ddd") -> Sun | BQ37: =TEXT(BQ38,"ddd") -> Mon | BR37: =TEXT(BR38,"ddd") -> Tue | BS37: =TEXT(BS38,"ddd") -> Wed | BT37: =TEXT(BT38,"ddd") -> Thu | BU37: =TEXT(BU38,"ddd") -> Fri | BV37: =TEXT(BV38,"ddd") -> Sat | ... CR37: =TEXT(CR38,"ddd") -> Sun | CT37: =TEXT(CT38,"ddd") -> Mon | CU37: =TEXT(CU38,"ddd") -> Tue | CV37: =TEXT(CV38,"ddd") -> Wed | CW37: =TEXT(CW38,"ddd") -> Thu | CX37: =TEXT(CX38,"ddd") -> Fri | CY37: =TEXT(CY38,"ddd") -> Sat | CZ37: =TEXT(CZ38,"ddd") -> Sun | DA37: =TEXT(DA38,"ddd") -> Mon | ... DX37: =TEXT(DX38,"ddd") -> Wed | DZ37: =TEXT(DZ38,"ddd") -> Thu | EA37: =TEXT(EA38,"ddd") -> Fri | EB37: =TEXT(EB38,"ddd") -> Sat | EC37: =TEXT(EC38,"ddd") -> Sun | ED37: =TEXT(ED38,"ddd") -> Mon | EE37: =TEXT(EE38,"ddd") -> Tue | EF37: =TEXT(EF38,"ddd") -> Wed | EG37: =TEXT(EG38,"ddd") -> Thu | ... FD37: =TEXT(FD38,"ddd") -> Sat
B38: Start Date | C38: Revenue Cash B/F | D38: =D10 -> 45901 | E38: =E10 -> 45902 | F38: =F10 -> 45903 | G38: =G10 -> 45904 | H38: =H10 -> 45905 | I38: =I10 -> 45906 | J38: =J10 -> 45907 | K38: =K10 -> 45908 | ... AG38: =AG10 -> 45930 | AH38: September | AI38: =AI10 -> 45931 | AJ38: =AJ10 -> 45932 | AK38: =AK10 -> 45933 | AL38: =AL10 -> 45934 | AM38: =AM10 -> 45935 | AN38: =AN10 -> 45936 | AO38: =AO10 -> 45937 | AP38: =AP10 -> 45938 | ... BM38: =BM10 -> 45961 | BN38: October | BO38: =+BM38+1 -> 45962 | BP38: =+BO38+1 -> 45963 | BQ38: =+BP38+1 -> 45964 | BR38: =+BQ38+1 -> 45965 | BS38: =+BR38+1 -> 45966 | BT38: =+BS38+1 -> 45967 | BU38: =+BT38+1 -> 45968 | BV38: =+BU38+1 -> 45969 | BW38: =+BV38+1 -> 45970 | ... CR38: =+CQ38+1 -> 45991 | CS38: November | CT38: =+CR38+1 -> 45992 | CU38: =+CT38+1 -> 45993 | CV38: =+CU38+1 -> 45994 | CW38: =+CV38+1 -> 45995 | CX38: =+CW38+1 -> 45996 | CY38: =+CX38+1 -> 45997 | CZ38: =+CY38+1 -> 45998 | DA38: =+CZ38+1 -> 45999 | DB38: =+DA38+1 -> 46000 | ... DX38: =+DW38+1 -> 46022 | DY38: December | DZ38: =+DX38+1 -> 46023 | EA38: =+DZ38+1 -> 46024 | EB38: =+EA38+1 -> 46025 | EC38: =+EB38+1 -> 46026 | ED38: =+EC38+1 -> 46027 | EE38: =+ED38+1 -> 46028 | EF38: =+EE38+1 -> 46029 | EG38: =+EF38+1 -> 46030 | EH38: =+EG38+1 -> 46031 | ... FD38: =+FC38+1 -> 46053 | FE38: January
D39: £000 | E39: £000 | F39: £000 | G39: £000 | H39: £000 | I39: £000 | J39: £000 | K39: £000 | L39: £000 | M39: £000 | N39: £000 | O39: £000 | P39: £000 | Q39: £000 | R39: £000 | S39: £000 | T39: £000 | U39: £000 | V39: £000 | W39: £000 | X39: £000 | Y39: £000 | Z39: £000 | AA39: £000 | AB39: £000 | AC39: £000 | AD39: £000 | AE39: £000 | AF39: £000 | AG39: £000 | AH39: £000 | AI39: £000 | AJ39: £000 | AK39: £000 | AL39: £000 | AM39: £000 | AN39: £000 | AO39: £000 | AP39: £000 | AQ39: £000 | AR39: £000 | AS39: £000 | AT39: £000 | AU39: £000 | AV39: £000 | AW39: £000 | AX39: £000 | AY39: £000 | AZ39: £000 | BA39: £000 | BB39: £000 | BC39: £000 | BD39: £000 | BE39: £000 | BF39: £000 | BG39: £000 | BH39: £000 | BI39: £000 | BJ39: £000 | BK39: £000 | BL39: £000 | BM39: £000 | BN39: £000 | BO39: £000 | BP39: £000 | BQ39: £000 | BR39: £000 | BS39: £000 | BT39: £000 | BU39: £000 | BV39: £000 | BW39: £000 | BX39: £000 | BY39: £000 | BZ39: £000 | CA39: £000 | CB39: £000 | CC39: £000 | CD39: £000 | CE39: £000 | CF39: £000 | CG39: £000 | CH39: £000 | CI39: £000 | CJ39: £000 | CK39: £000 | CL39: £000 | CM39: £000 | CN39: £000 | CO39: £000 | CP39: £000 | CQ39: £000 | CR39: £000 | CS39: £000 | CT39: £000 | CU39: £000 | CV39: £000 | CW39: £000 | CX39: £000 | CY39: £000 | CZ39: £000 | DA39: £000 | DB39: £000 | DC39: £000 | DD39: £000 | DE39: £000 | DF39: £000 | DG39: £000 | DH39: £000 | DI39: £000 | DJ39: £000 | DK39: £000 | DL39: £000 | DM39: £000 | DN39: £000 | DO39: £000 | DP39: £000 | DQ39: £000 | DR39: £000 | DS39: £000 | DT39: £000 | DU39: £000 | DV39: £000 | DW39: £000 | DX39: £000 | DY39: £000 | DZ39: £000 | EA39: £000 | EB39: £000 | EC39: £000 | ED39: £000 | EE39: £000 | EF39: £000 | EG39: £000 | EH39: £000 | EI39: £000 | EJ39: £000 | EK39: £000 | EL39: £000 | EM39: £000 | EN39: £000 | EO39: £000 | EP39: £000 | EQ39: £000 | ER39: £000 | ES39: £000 | ET39: £000 | EU39: £000 | EV39: £000 | EW39: £000 | EX39: £000 | EY39: £000 | EZ39: £000 | FA39: £000 | FB39: £000 | FC39: £000 | FD39: £000 | FE39: £000
B40: Cash Balance B/F (Operational) | C40: 4427 | D40: =+C65 -> 4427 | E40: =+D65 -> 6211.7 | F40: =+E65 -> 65945.463 | G40: =+F65 -> 48221.024 | H40: =+G65 -> 48719.307 | I40: =+H65 -> 47955.762 | J40: =+I65 -> 47955.762 | K40: =+J65 -> 47955.762 | ... AG40: =+AF65 -> -9122.7774 | AH40: =+D40 -> 4427 | AI40: =+AG65 -> -8256.2704 | AJ40: =+AI65 -> 48985.963 | AK40: =+AJ65 -> 49319.147 | AL40: =+AK65 -> 27581.973 | AM40: =+AL65 -> 27581.973 | AN40: =+AM65 -> 27581.973 | AO40: =+AN65 -> 28015.437 | AP40: =+AO65 -> 28448.621 | AQ40: =+AP65 -> 28881.805 | ... BM40: =+BL65 -> -12376.27 | BN40: =+AH65 -> -8256.2704 | BO40: =+BM65 -> -15973.189 | BP40: =+BO65 -> -15973.189 | BQ40: =+BP65 -> -15973.189 | BR40: =+BQ65 -> 42139.263 | BS40: =+BR65 -> 27026.367 | BT40: =+BS65 -> 27518.83 | BU40: =+BT65 -> 27911.292 | BV40: =+BU65 -> 3367.0575 | BW40: =+BV65 -> 3367.0575 | ... CR40: =+CQ65 -> -31868.372 | CS40: =+BN65 -> -15973.189 | CT40: =+CR65 -> -31868.372 | CU40: =+CT65 -> 26399.172 | CV40: =+CU65 -> 809.01329 | CW40: =+CV65 -> 1075.5518 | CX40: =+CW65 -> 1392.0904 | CY40: =+CX65 -> -10180.85 | CZ40: =+CY65 -> -10180.85 | DA40: =+CZ65 -> -10180.85 | DB40: =+DA65 -> -9954.487 | ... DX40: =+DW65 -> -40744.386 | DY40: =+CS65 -> -31868.372 | DZ40: =+DX65 -> -40477.951 | EA40: =+DZ65 -> -36565.264 | EB40: =+EA65 -> -15018.681 | EC40: =+EB65 -> -15018.681 | ED40: =+EC65 -> -15018.681 | EE40: =+ED65 -> -14484.715 | EF40: =+EE65 -> -13951.029 | EG40: =+EF65 -> -13417.343 | EH40: =+EG65 -> -12983.656 | ... FD40: =+FC65 -> -37163.959 | FE40: =+DY65 -> -40477.951
B41: RECEIPTS
A42: NHS Receipts - ICB | B42: NHS Contract Income - ICB | E42: 58860.027 | R42: 12220.129 | AH42: =SUM(D42:AG42) -> 71080.156 | AI42: 57862.498 | AW42: =25000-10124 -> 14876 | BN42: =SUM(AI42:BM42) -> 72738.498 | BQ42: 55084.709 | CE42: 25000 | CS42: =SUM(BO42:CR42) -> 80084.709 | CT42: 55084.709 | DH42: 25000 | DY42: =SUM(CT42:DX42) -> 80084.709 | EA42: 55084.709 | EN42: 25000 | FE42: =SUM(DZ42:FD42) -> 80084.709
A43: NHS Receipts - NHSE/WT&E | B43: NHS Contract Income - NHSE/WT&E | R43: 25137.802 | AH43: =SUM(D43:AG43) -> 25137.802 | AW43: =13153+50083-10124-25000+10124 -> 38236 | BN43: =SUM(AI43:BM43) -> 38236 | CE43: =50083-25000 -> 25083 | CS43: =SUM(BO43:CR43) -> 25083 | DH43: =50083-25000 -> 25083 | DY43: =SUM(CT43:DX43) -> 25083 | EN43: =50083+13153-25000 -> 38236 | FE43: =SUM(DZ43:FD43) -> 38236
...

Sheet Summary Sheet
B1: Summary Cashflow
B2: Trust Name | D2: =+'Daily Forecast'!C2 -> Oxford University Hospitals NHS Foundation Trust
B3: Trust Code | D3: =+'Daily Forecast'!C3 -> RTH
D4: £000 | E4: £000 | F4: £000 | G4: £000 | H4: £000
D5: September | E5: October | F5: November | G5: December | H5: January | J5: Trust Comments - Please Complete
B6: Opening Balance | D6: =+'Daily Forecast'!D74 -> 46041 | E6: =+D38 -> 33306.73 | F6: =+E38 -> 19019.811 | G6: =+F38 -> 3138.6279 | H6: =+G38 -> -5470.9506
B7: Monthly Income
B8: Revenue
B9: NHS Receipts - ICB | D9: =SUMIFS('Daily Forecast'!$AH:$AH,'Daily Forecast'!$A:$A,$B9) -> 71080.156 | E9: =SUMIFS('Daily Forecast'!$BN:$BN,'Daily Forecast'!$A:$A,$B9) -> 72738.498 | F9: =SUMIFS('Daily Forecast'!$CS:$CS,'Daily Forecast'!$A:$A,$B9) -> 80084.709 | G9: =SUMIFS('Daily Forecast'!$DY:$DY,'Daily Forecast'!$A:$A,$B9) -> 80084.709 | H9: =SUMIFS('Daily Forecast'!$FE:$FE,'Daily Forecast'!$A:$A,$B9) -> 80084.709 | J9: £10.1m clawback pay award funding deducted Septmebr and £10.1m expected in October. £3m depreciation clawback taken September
B10: NHS Receipts - NHSE/WT&E | D10: =SUMIFS('Daily Forecast'!$AH:$AH,'Daily Forecast'!$A:$A,$B10) -> 25137.802 | E10: =SUMIFS('Daily Forecast'!$BN:$BN,'Daily Forecast'!$A:$A,$B10) -> 38236 | F10: =SUMIFS('Daily Forecast'!$CS:$CS,'Daily Forecast'!$A:$A,$B10) -> 25083 | G10: =SUMIFS('Daily Forecast'!$DY:$DY,'Daily Forecast'!$A:$A,$B10) -> 25083 | H10: =SUMIFS('Daily Forecast'!$FE:$FE,'Daily Forecast'!$A:$A,$B10) -> 38236 | J10: October and January NHS receipts includes Education funding quarterly in advance.
B11: NHS Receipts - Other | D11: =SUMIFS('Daily Forecast'!$AH:$AH,'Daily Forecast'!$A:$A,$B11) -> 24460.648 | E11: =SUMIFS('Daily Forecast'!$BN:$BN,'Daily Forecast'!$A:$A,$B11) -> 17372.3 | F11: =SUMIFS('Daily Forecast'!$CS:$CS,'Daily Forecast'!$A:$A,$B11) -> 18571.854 | G11: =SUMIFS('Daily Forecast'!$DY:$DY,'Daily Forecast'!$A:$A,$B11) -> 18645.709 | H11: =SUMIFS('Daily Forecast'!$FE:$FE,'Daily Forecast'!$A:$A,$B11) -> 18892.269 | J11: September higher due to some significant NHS debtor receipts (£5m) following remediation work between OUH and other Trusts and some contract uplifts from smaller providers to cover pay award backdated pay processed in August
B12: NHS Receipts - Moved to Capital Depreciation | D12: =SUMIFS('Daily Forecast'!$AH:$AH,'Daily Forecast'!$A:$A,$B12) -> -857 | E12: =SUMIFS('Daily Forecast'!$BN:$BN,'Daily Forecast'!$A:$A,$B12) -> -880 | F12: =SUMIFS('Daily Forecast'!$CS:$CS,'Daily Forecast'!$A:$A,$B12) -> -794 | G12: =SUMIFS('Daily Forecast'!$DY:$DY,'Daily Forecast'!$A:$A,$B12) -> -798 | H12: =SUMIFS('Daily Forecast'!$FE:$FE,'Daily Forecast'!$A:$A,$B12) -> -955
B13: NHS Receipts - NHS Funding | D13: =SUMIFS('Daily Forecast'!$AH:$AH,'Daily Forecast'!$A:$A,$B13) -> 3526.731 | E13: =SUMIFS('Daily Forecast'!$BN:$BN,'Daily Forecast'!$A:$A,$B13) -> 2343 | F13: =SUMIFS('Daily Forecast'!$CS:$CS,'Daily Forecast'!$A:$A,$B13) -> 2343 | G13: =SUMIFS('Daily Forecast'!$DY:$DY,'Daily Forecast'!$A:$A,$B13) -> 3243 | H13: =SUMIFS('Daily Forecast'!$FE:$FE,'Daily Forecast'!$A:$A,$B13) -> 2278 | J13: Research and Development funding
B14: Non NHS Receipts | D14: =SUMIFS('Daily Forecast'!$AH:$AH,'Daily Forecast'!$A:$A,$B$14) -> 18047.197 | E14: =SUMIFS('Daily Forecast'!$BN:$BN,'Daily Forecast'!$A:$A,$B14) -> 11358.115 | F14: =SUMIFS('Daily Forecast'!$CS:$CS,'Daily Forecast'!$A:$A,$B14) -> 14764.487 | G14: =SUMIFS('Daily Forecast'!$DY:$DY,'Daily Forecast'!$A:$A,$B14) -> 14555.331 | H14: =SUMIFS('Daily Forecast'!$FE:$FE,'Daily Forecast'!$A:$A,$B14) -> 15844.093 | J14: Sep high as includes both Aug VAT rebate (beginning of month) and Sep VAT rebate (end of Sep month), with Oct low because VAT rebate was processed at end of Sep. VAT rebate is c.£3.7m per month for OUH
B15: Revenue Total | D15: =SUM(D9:D14) -> 141395.53 | E15: =SUM(E9:E14) -> 141167.91 | F15: =SUM(F9:F14) -> 140053.05 | G15: =SUM(G9:G14) -> 140813.75 | H15: =SUM(H9:H14) -> 154380.07
B16: Capital
B17: Receipts for Capital | D17: =SUMIFS('Daily Forecast'!$AH:$AH,'Daily Forecast'!$A:$A,$B$17) -> 1248 | E17: =SUMIFS('Daily Forecast'!$BN:$BN,'Daily Forecast'!$A:$A,$B17) -> 4806 | F17: =SUMIFS('Daily Forecast'!$CS:$CS,'Daily Forecast'!$A:$A,$B17) -> 3588 | G17: =SUMIFS('Daily Forecast'!$DY:$DY,'Daily Forecast'!$A:$A,$B17) -> 3592 | H17: =SUMIFS('Daily Forecast'!$FE:$FE,'Daily Forecast'!$A:$A,$B17) -> 3705 | J17: Capital re forecast in progress
B18: Capital Total | D18: =SUM(D17) -> 1248 | E18: =SUM(E17) -> 4806 | F18: =SUM(F17) -> 3588 | G18: =SUM(G17) -> 3592 | H18: =SUM(H17) -> 3705
B20: TOTAL | D20: =D15+D18 -> 142643.53 | E20: =E15+E18 -> 145973.91 | F20: =F15+F18 -> 143641.05 | G20: =G15+G18 -> 144405.75 | H20: =H15+H18 -> 158085.07
B22: Monthly Payments
B23: Revenue
B24: Payroll Payments | D24: =-SUMIFS('Daily Forecast'!$AH:$AH,'Daily Forecast'!$A:$A,$B$24) -> -82693.945 | E24: =-SUMIFS('Daily Forecast'!$BN:$BN,'Daily Forecast'!$A:$A,$B24) -> -79997.083 | F24: =-SUMIFS('Daily Forecast'!$CS:$CS,'Daily Forecast'!$A:$A,$B24) -> -83858.564 | G24: =-SUMIFS('Daily Forecast'!$DY:$DY,'Daily Forecast'!$A:$A,$B24) -> -80027.739 | H24: =-SUMIFS('Daily Forecast'!$FE:$FE,'Daily Forecast'!$A:$A,$B24) -> -79932.952 | J24: September payroll includes pay award arrears on-costs. Thereafter, expected to settle to new run rate
B25: NHS Payments | D25: =-SUMIFS('Daily Forecast'!$AH:$AH,'Daily Forecast'!$A:$A,$B$25) -> -3965.473 | E25: =-SUMIFS('Daily Forecast'!$BN:$BN,'Daily Forecast'!$A:$A,$B25) -> -3965.1 | F25: =-SUMIFS('Daily Forecast'!$CS:$CS,'Daily Forecast'!$A:$A,$B25) -> -3965.1 | G25: =-SUMIFS('Daily Forecast'!$DY:$DY,'Daily Forecast'!$A:$A,$B25) -> -3965.1 | H25: =-SUMIFS('Daily Forecast'!$FE:$FE,'Daily Forecast'!$A:$A,$B25) -> -3965.1 | J25: Clinical negligence premium - direct debit paid in first ten months
B26: Non NHS Payments | D26: =-SUMIFS('Daily Forecast'!$AH:$AH,'Daily Forecast'!$A:$A,$B$26) -> -51883.722 | E26: =-SUMIFS('Daily Forecast'!$BN:$BN,'Daily Forecast'!$A:$A,$B26) -> -48806.432 | F26: =-SUMIFS('Daily Forecast'!$CS:$CS,'Daily Forecast'!$A:$A,$B26) -> -65625.45 | G26: =-SUMIFS('Daily Forecast'!$DY:$DY,'Daily Forecast'!$A:$A,$B26) -> -51885.133 | H26: =-SUMIFS('Daily Forecast'!$FE:$FE,'Daily Forecast'!$A:$A,$B26) -> -54596.148 | J26: November includes catch up payments to suppliers £30m currently being deferred; December low due to fewer weekly BACS runs scheduled
B27: Loan Payments | D27: =-SUMIFS('Daily Forecast'!$AH:$AH,'Daily Forecast'!$A:$A,$B$27) -> -163.695 | E27: =-SUMIFS('Daily Forecast'!$BN:$BN,'Daily Forecast'!$A:$A,$B27) -> 0 | F27: =-SUMIFS('Daily Forecast'!$CS:$CS,'Daily Forecast'!$A:$A,$B27) -> -415 | G27: =-SUMIFS('Daily Forecast'!$DY:$DY,'Daily Forecast'!$A:$A,$B27) -> -187 | H27: =-SUMIFS('Daily Forecast'!$FE:$FE,'Daily Forecast'!$A:$A,$B27) -> 0 | J27: In line with loan schedules
B28: PDC Dividend Payments | D28: =-SUMIFS('Daily Forecast'!$AH:$AH,'Daily Forecast'!$A:$A,$B$28) -> -4479 | E28: =-SUMIFS('Daily Forecast'!$BN:$BN,'Daily Forecast'!$A:$A,$B28) -> 0 | F28: =-SUMIFS('Daily Forecast'!$CS:$CS,'Daily Forecast'!$A:$A,$B28) -> 0 | G28: =-SUMIFS('Daily Forecast'!$DY:$DY,'Daily Forecast'!$A:$A,$B28) -> 0 | H28: =-SUMIFS('Daily Forecast'!$FE:$FE,'Daily Forecast'!$A:$A,$B28) -> 0 | J28: As expected, taken half yearly in September/March
B29: Other Payments | D29: =-SUMIFS('Daily Forecast'!$AH:$AH,'Daily Forecast'!$A:$A,$B$29) -> -10892.969 | E29: =-SUMIFS('Daily Forecast'!$BN:$BN,'Daily Forecast'!$A:$A,$B29) -> -16116.216 | F29: =-SUMIFS('Daily Forecast'!$CS:$CS,'Daily Forecast'!$A:$A,$B29) -> -13384.12 | G29: =-SUMIFS('Daily Forecast'!$DY:$DY,'Daily Forecast'!$A:$A,$B29) -> -13358.355 | H29: =-SUMIFS('Daily Forecast'!$FE:$FE,'Daily Forecast'!$A:$A,$B29) -> -12571.879 | J29: Majority is PFI. Plus daily "other" spend typically low value
B30: Revenue Total | D30: =SUM(D24:D29) -> -154078.8 | E30: =SUM(E24:E29) -> -148884.83 | F30: =SUM(F24:F29) -> -167248.23 | G30: =SUM(G24:G29) -> -149423.33 | H30: =SUM(H24:H29) -> -151066.08
B31: Capital
B32: Capital Payments | D32: =-SUMIFS('Daily Forecast'!$AH:$AH,'Daily Forecast'!$A:$A,$B$32) -> -1299 | E32: =-SUMIFS('Daily Forecast'!$BN:$BN,'Daily Forecast'!$A:$A,$B32) -> -11376 | F32: =-SUMIFS('Daily Forecast'!$CS:$CS,'Daily Forecast'!$A:$A,$B32) -> -3574 | G32: =-SUMIFS('Daily Forecast'!$DY:$DY,'Daily Forecast'!$A:$A,$B32) -> -3592 | H32: =-SUMIFS('Daily Forecast'!$FE:$FE,'Daily Forecast'!$A:$A,$B32) -> -3745 | J32: Capital re forecast in progress
B33: Capital Total | D33: =SUM(D32) -> -1299 | E33: =SUM(E32) -> -11376 | F33: =SUM(F32) -> -3574 | G33: =SUM(G32) -> -3592 | H33: =SUM(H32) -> -3745
B35: TOTAL | D35: =D30+D33 -> -155377.8 | E35: =E30+E33 -> -160260.83 | F35: =F30+F33 -> -170822.23 | G35: =G30+G33 -> -153015.33 | H35: =H30+H33 -> -154811.08
B36: Balance | D36: =+D6+D20+D35 -> 33306.73 | E36: =+E6+E20+E35 -> 19019.811 | F36: =+F6+F20+F35 -> -8161.3721 | G36: =+G6+G20+G35 -> -5470.9506 | H36: =+H6+H20+H35 -> -2196.9594
B37: Revenue Support PDC Receipts | D37: =SUMIFS('Daily Forecast'!$AH:$AH,'Daily Forecast'!$A:$A,$B$37) -> 0 | E37: =SUMIFS('Daily Forecast'!$BN:$BN,'Daily Forecast'!$A:$A,$B37) -> 0 | F37: =SUMIFS('Daily Forecast'!$CS:$CS,'Daily Forecast'!$A:$A,$B37) -> 11300 | G37: =SUMIFS('Daily Forecast'!$DY:$DY,'Daily Forecast'!$A:$A,$B37) -> 0 | H37: =SUMIFS('Daily Forecast'!$FE:$FE,'Daily Forecast'!$A:$A,$B37) -> 0
B38: Adjusted Balance | D38: =+D36+D37 -> 33306.73 | E38: =+E36+E37 -> 19019.811 | F38: =+F36+F37 -> 3138.6279 | G38: =+G36+G37 -> -5470.9506 | H38: =+H36+H37 -> -2196.9594
B41: Net Capital Position: | C41: B/F cash | D41: September | E41: October | F41: November | G41: December | H41: January | I41: C/F Cash | J41: Trust Comments (if C/F Cash is more than £500k or less than £nil per line)
A42: Capital Expenditure - Capital PDC | B42: Capital PDC - National Programmes (via DHSC) | C42: ='Daily Forecast'!C14 -> 0 | D42: =SUMIFS('Daily Forecast'!$AH:$AH,'Daily Forecast'!$B:$B,$B42)-SUMIFS('Daily Forecast'!$AH:$AH,'Daily Forecast'!$B:$B,$A42) -> 391 | E42: =SUMIFS('Daily Forecast'!$BN:$BN,'Daily Forecast'!$B:$B,$B42)-SUMIFS('Daily Forecast'!$BN:$BN,'Daily Forecast'!$B:$B,$A42) -> -4588 | F42: =SUMIFS('Daily Forecast'!$CS:$CS,'Daily Forecast'!$B:$B,$B42)-SUMIFS('Daily Forecast'!$CS:$CS,'Daily Forecast'!$B:$B,$A42) -> 27 | G42: =SUMIFS('Daily Forecast'!$DY:$DY,'Daily Forecast'!$B:$B,$B42)-SUMIFS('Daily Forecast'!$DY:$DY,'Daily Forecast'!$B:$B,$A42) -> 0 | H42: =SUMIFS('Daily Forecast'!$FE:$FE,'Daily Forecast'!$B:$B,$B42)-SUMIFS('Daily Forecast'!$FE:$FE,'Daily Forecast'!$B:$B,$A42) -> -40 | I42: =SUM(C42:H42) -> -4210
A43: Capital Expenditure - Depreciation | B43: Depreciation (via Tariff Funding) | C43: ='Daily Forecast'!C15 -> 0 | D43: =SUMIFS('Daily Forecast'!$AH:$AH,'Daily Forecast'!$B:$B,$B43)-SUMIFS('Daily Forecast'!$AH:$AH,'Daily Forecast'!$B:$B,$A43) -> -442 | E43: =SUMIFS('Daily Forecast'!$BN:$BN,'Daily Forecast'!$B:$B,$B43)-SUMIFS('Daily Forecast'!$BN:$BN,'Daily Forecast'!$B:$B,$A43) -> -1564 | F43: =SUMIFS('Daily Forecast'!$CS:$CS,'Daily Forecast'!$B:$B,$B43)-SUMIFS('Daily Forecast'!$CS:$CS,'Daily Forecast'!$B:$B,$A43) -> 0 | G43: =SUMIFS('Daily Forecast'!$DY:$DY,'Daily Forecast'!$B:$B,$B43)-SUMIFS('Daily Forecast'!$DY:$DY,'Daily Forecast'!$B:$B,$A43) -> 0 | H43: =SUMIFS('Daily Forecast'!$FE:$FE,'Daily Forecast'!$B:$B,$B43)-SUMIFS('Daily Forecast'!$FE:$FE,'Daily Forecast'!$B:$B,$A43) -> 0 | I43: =SUM(C43:H43) -> -2006 | J43: Related to phasing of internally funded capital programme for 2025/26.
A44: Capital Expenditure - System Capital Support | B44: System Capital Support PDC (Via DHSC) | C44: ='Daily Forecast'!C16 -> 0 | D44: =SUMIFS('Daily Forecast'!$AH:$AH,'Daily Forecast'!$B:$B,$B44)-SUMIFS('Daily Forecast'!$AH:$AH,'Daily Forecast'!$B:$B,$A44) -> 0 | E44: =SUMIFS('Daily Forecast'!$BN:$BN,'Daily Forecast'!$B:$B,$B44)-SUMIFS('Daily Forecast'!$BN:$BN,'Daily Forecast'!$B:$B,$A44) -> 0 | F44: =SUMIFS('Daily Forecast'!$CS:$CS,'Daily Forecast'!$B:$B,$B44)-SUMIFS('Daily Forecast'!$CS:$CS,'Daily Forecast'!$B:$B,$A44) -> 0 | G44: =SUMIFS('Daily Forecast'!$DY:$DY,'Daily Forecast'!$B:$B,$B44)-SUMIFS('Daily Forecast'!$DY:$DY,'Daily Forecast'!$B:$B,$A44) -> 0 | H44: =SUMIFS('Daily Forecast'!$FE:$FE,'Daily Forecast'!$B:$B,$B44)-SUMIFS('Daily Forecast'!$FE:$FE,'Daily Forecast'!$B:$B,$A44) -> 0 | I44: =SUM(C44:H44) -> 0
A45: Capital Expenditure - Other | B45: Other Capital Funding (Reserves, Donations, etc.) | C45: ='Daily Forecast'!C17 -> 0 | D45: =SUMIFS('Daily Forecast'!$AH:$AH,'Daily Forecast'!$B:$B,$B45)-SUMIFS('Daily Forecast'!$AH:$AH,'Daily Forecast'!$B:$B,$A45) -> 0 | E45: =SUMIFS('Daily Forecast'!$BN:$BN,'Daily Forecast'!$B:$B,$B45)-SUMIFS('Daily Forecast'!$BN:$BN,'Daily Forecast'!$B:$B,$A45) -> -418 | F45: =SUMIFS('Daily Forecast'!$CS:$CS,'Daily Forecast'!$B:$B,$B45)-SUMIFS('Daily Forecast'!$CS:$CS,'Daily Forecast'!$B:$B,$A45) -> -13 | G45: =SUMIFS('Daily Forecast'!$DY:$DY,'Daily Forecast'!$B:$B,$B45)-SUMIFS('Daily Forecast'!$DY:$DY,'Daily Forecast'!$B:$B,$A45) -> 0 | H45: =SUMIFS('Daily Forecast'!$FE:$FE,'Daily Forecast'!$B:$B,$B45)-SUMIFS('Daily Forecast'!$FE:$FE,'Daily Forecast'!$B:$B,$A45) -> 0 | I45: =SUM(C45:H45) -> -431
...

Sheet Minimum cash balance
A1: OrgCode | B1: Trust Name | C1: Minimum Cash Balance | D1: <- Updated 29/08/25 | F1: Previous -> | G1: Minimum Cash Balance
A2: RCF | B2: Airedale NHS Foundation Trust | C2: 1615461.4 | G2: 1000000
A3: RBS | B3: Alder Hey Children's NHS Foundation Trust | C3: 2219552 | G3: 1371000
A4: RTK | B4: Ashford and St Peter's Hospitals NHS Foundation Trust | C4: 2574406.3 | G4: 1440000
A5: RVN | B5: Avon and Wiltshire Mental Health Partnership NHS Trust | C5: 1992279.5 | G5: 1033000
A6: RF4 | B6: Barking, Havering and Redbridge University Hospitals NHS Trust | C6: 3000000 | G6: 1000000
A7: RFF | B7: Barnsley Hospital NHS Foundation Trust | C7: 1852328.8 | G7: 1000000
A8: R1H | B8: Barts Health NHS Trust | C8: 3000000 | G8: 3000000
A9: RC9 | B9: Bedfordshire Hospitals NHS Foundation Trust | C9: 3000000 | G9: 1469000
A10: RWX | B10: Berkshire Healthcare NHS Foundation Trust | C10: 2089682.2 | G10: 1287000
A11: RXT | B11: Birmingham and Solihull Mental Health NHS Foundation Trust | C11: 3000000 | G11: 1257000
A12: RYW | B12: Birmingham Community Healthcare NHS Foundation Trust | C12: 2019989 | G12: 1405000
A13: RQ3 | B13: Birmingham Womens and Children's NHS Foundation Trust | C13: 3000000 | G13: 1382000
... A206: RX8 | B206: Yorkshire Ambulance Service NHS Trust | C206: 2323720.5 | G206: 1323000
C208: =SUM(C2:C207) -> 4.9491287e+08 | G208: =SUM(G2:G207) -> 324670000

Sheet List
A1: List updated At 29/08/25 | B1: Trust Name | C1: OrgCode | E1: Previous List | F1: OrganisationName | G1: NHSCode
B2: Please select Trust Name | C2: XXX | F2: Please select Trust Name | G2: XXX
B3: Airedale NHS Foundation Trust | C3: RCF | F3: Airedale NHS Foundation Trust | G3: RCF
B4: Alder Hey Children's NHS Foundation Trust | C4: RBS | F4: Alder Hey Children's NHS Foundation Trust | G4: RBS
B5: Ashford and St Peter's Hospitals NHS Foundation Trust | C5: RTK | F5: Ashford and St Peter's Hospitals NHS Foundation Trust | G5: RTK
B6: Avon and Wiltshire Mental Health Partnership NHS Trust | C6: RVN | F6: Avon and Wiltshire Mental Health Partnership NHS Trust | G6: RVN
B7: Barking, Havering and Redbridge University Hospitals NHS Trust | C7: RF4 | F7: Barking, Havering and Redbridge University Hospitals NHS Trust | G7: RF4
B8: Barnsley Hospital NHS Foundation Trust | C8: RFF | F8: Barnet, Enfield And Haringey Mental Health NHS Trust | G8: RRP
B9: Barts Health NHS Trust | C9: R1H | F9: Barnsley Hospital NHS Foundation Trust | G9: RFF
B10: Bedfordshire Hospitals NHS Foundation Trust | C10: RC9 | F10: Barts Health NHS Trust | G10: R1H
B11: Berkshire Healthcare NHS Foundation Trust | C11: RWX | F11: Bedfordshire Hospitals NHS Foundation Trust | G11: RC9
B12: Birmingham and Solihull Mental Health NHS Foundation Trust | C12: RXT | F12: Berkshire Healthcare NHS Foundation Trust | G12: RWX
B13: Birmingham Community Healthcare NHS Foundation Trust | C13: RYW | F13: Birmingham and Solihull Mental Health NHS Foundation Trust | G13: RXT
... B207: Yorkshire Ambulance Service NHS Trust | C207: RX8 | F207: Wirral University Teaching Hospital NHS Foundation Trust | G207: RBL
F208: Worcestershire Acute Hospitals NHS Trust | G208: RWP
F209: Wrightington, Wigan and Leigh NHS Foundation Trust | G209: RRF
F210: Wye Valley NHS Trust | G210: RLQ
