Workbook

Sheet Purchase Summary
A1: Purchase Summary by Financial Year
A2: Purchased units = UOI pack size × supplied quantity; cost = Total demand (£).
A4: Financial Year 23-24 | E4: Annual totals | F4: =SUM(F6:F10) -> 685250 | G4: =SUM(G6:G10) -> 37716.98
A5: Product Description | B5: Supplier | C5: Brand | D5: MPC | E5: UOI | F5: Total Units Purchased | G5: Total Cost (£)
A6: Single Use Tourniquet TPE single use latex-free quick release pull through fastening can be applied and adjusted single-handedly supports ANTT practise NON RETURNABLE | B6: ASEP HEALTHCARE | C6: Tournistretch | D6: 43451TPEO/ASEP25 | E6: Bag of 25 | F6: =IFERROR(VALUE(_xlfn.TEXTAFTER($E6,"of ")),1)*SUMIFS('23-24'!$L$7:$L$240,'23-24'!$F$7:$F$240,$A6,'23-24'!$H$7:$H$240,$B6,'23-24'!$I$7:$I$240,$C6,'23-24'!$J$7:$J$240,$D6,'23-24'!$K$7:$K$240,$E6) -> 200 | G6: =SUMIFS('23-24'!$M$7:$M$240,'23-24'!$F$7:$F$240,$A6,'23-24'!$H$7:$H$240,$B6,'23-24'!$I$7:$I$240,$C6,'23-24'!$J$7:$J$240,$D6,'23-24'!$K$7:$K$240,$E6) -> 37.12
A7: Single Use Tourniquet Tournistrip single use latex free tourniquet easy quick and economical boxed reel of 200 supports ANTT practice | B7: ASEP HEALTHCARE | C7: Tournistrip | D7: 5490LHT236/ASEP200 | E7: Box of 200 | F7: =IFERROR(VALUE(_xlfn.TEXTAFTER($E7,"of ")),1)*SUMIFS('23-24'!$L$7:$L$240,'23-24'!$F$7:$F$240,$A7,'23-24'!$H$7:$H$240,$B7,'23-24'!$I$7:$I$240,$C7,'23-24'!$J$7:$J$240,$D7,'23-24'!$K$7:$K$240,$E7) -> 4200 | G7: =SUMIFS('23-24'!$M$7:$M$240,'23-24'!$F$7:$F$240,$A7,'23-24'!$H$7:$H$240,$B7,'23-24'!$I$7:$I$240,$C7,'23-24'!$J$7:$J$240,$D7,'23-24'!$K$7:$K$240,$E7) -> 630
A8: Single Use Tourniquet Quick Release Button Fastening & Latex Free | B8: MEDICINA LIMITED | C8: Medicina | D8: DT01 | E8: Box of 100 | F8: =IFERROR(VALUE(_xlfn.TEXTAFTER($E8,"of ")),1)*SUMIFS('23-24'!$L$7:$L$240,'23-24'!$F$7:$F$240,$A8,'23-24'!$H$7:$H$240,$B8,'23-24'!$I$7:$I$240,$C8,'23-24'!$J$7:$J$240,$D8,'23-24'!$K$7:$K$240,$E8) -> 200 | G8: =SUMIFS('23-24'!$M$7:$M$240,'23-24'!$F$7:$F$240,$A8,'23-24'!$H$7:$H$240,$B8,'23-24'!$I$7:$I$240,$C8,'23-24'!$J$7:$J$240,$D8,'23-24'!$K$7:$K$240,$E8) -> 29
A9: Single Use Tourniquet Single Use Latex Free Band Type Blue Smooth Finish | B9: POLYCO HEALTHLINE LIMITED | C9: T-Band Plus | D9: TBBN25 | E9: Box of 25 | F9: =IFERROR(VALUE(_xlfn.TEXTAFTER($E9,"of ")),1)*SUMIFS('23-24'!$L$7:$L$240,'23-24'!$F$7:$F$240,$A9,'23-24'!$H$7:$H$240,$B9,'23-24'!$I$7:$I$240,$C9,'23-24'!$J$7:$J$240,$D9,'23-24'!$K$7:$K$240,$E9) -> 386450 | G9: =SUMIFS('23-24'!$M$7:$M$240,'23-24'!$F$7:$F$240,$A9,'23-24'!$H$7:$H$240,$B9,'23-24'!$I$7:$I$240,$C9,'23-24'!$J$7:$J$240,$D9,'23-24'!$K$7:$K$240,$E9) -> 12984.72
A10: Single Use Tourniquet Single Use Quick Release Button Latex Free | B10: RICHARDSON HEALTHCARE LTD | C10: V-Loc | D10: 501110 | E10: Pack of 100 | F10: =IFERROR(VALUE(_xlfn.TEXTAFTER($E10,"of ")),1)*SUMIFS('23-24'!$L$7:$L$240,'23-24'!$F$7:$F$240,$A10,'23-24'!$H$7:$H$240,$B10,'23-24'!$I$7:$I$240,$C10,'23-24'!$J$7:$J$240,$D10,'23-24'!$K$7:$K$240,$E10) -> 294200 | G10: =SUMIFS('23-24'!$M$7:$M$240,'23-24'!$F$7:$F$240,$A10,'23-24'!$H$7:$H$240,$B10,'23-24'!$I$7:$I$240,$C10,'23-24'!$J$7:$J$240,$D10,'23-24'!$K$7:$K$240,$E10) -> 24036.14
A13: Financial Year 24-25 | E13: Annual totals | F13: =SUM(F15:F22) -> 729275 | G13: =SUM(G15:G22) -> 40600.36
A14: Product Description | B14: Supplier | C14: Brand | D14: MPC | E14: UOI | F14: Total Units Purchased | G14: Total Cost (£)
A15: Single Use Tourniquet Tournistrip single use latex free tourniquet easy quick and economical boxed reel of 200 supports ANTT practice | B15: ASEP HEALTHCARE | C15: Tournistrip | D15: 5490LHT236/ASEP200 | E15: Box of 200 | F15: =IFERROR(VALUE(_xlfn.TEXTAFTER($E15,"of ")),1)*SUMIFS('24-25'!$L$7:$L$250,'24-25'!$F$7:$F$250,$A15,'24-25'!$H$7:$H$250,$B15,'24-25'!$I$7:$I$250,$C15,'24-25'!$J$7:$J$250,$D15,'24-25'!$K$7:$K$250,$E15) -> 4600 | G15: =SUMIFS('24-25'!$M$7:$M$250,'24-25'!$F$7:$F$250,$A15,'24-25'!$H$7:$H$250,$B15,'24-25'!$I$7:$I$250,$C15,'24-25'!$J$7:$J$250,$D15,'24-25'!$K$7:$K$250,$E15) -> 690
A16: Single Use Tourniquet Single use stretch latex free band type fastening | B16: MEDLINE INDUSTRIES LTD | C16: Medline | D16: DYNDE75020A | E16: Case of 100 | F16: =IFERROR(VALUE(_xlfn.TEXTAFTER($E16,"of ")),1)*SUMIFS('24-25'!$L$7:$L$250,'24-25'!$F$7:$F$250,$A16,'24-25'!$H$7:$H$250,$B16,'24-25'!$I$7:$I$250,$C16,'24-25'!$J$7:$J$250,$D16,'24-25'!$K$7:$K$250,$E16) -> 100 | G16: =SUMIFS('24-25'!$M$7:$M$250,'24-25'!$F$7:$F$250,$A16,'24-25'!$H$7:$H$250,$B16,'24-25'!$I$7:$I$250,$C16,'24-25'!$J$7:$J$250,$D16,'24-25'!$K$7:$K$250,$E16) -> 4.36
A17: Single Use Tourniquet Single Use Latex Free Band Type Blue Smooth Finish | B17: POLYCO HEALTHLINE LIMITED | C17: T-Band Plus | D17: TBBN25 | E17: Box of 25 | F17: =IFERROR(VALUE(_xlfn.TEXTAFTER($E17,"of ")),1)*SUMIFS('24-25'!$L$7:$L$250,'24-25'!$F$7:$F$250,$A17,'24-25'!$H$7:$H$250,$B17,'24-25'!$I$7:$I$250,$C17,'24-25'!$J$7:$J$250,$D17,'24-25'!$K$7:$K$250,$E17) -> 400025 | G17: =SUMIFS('24-25'!$M$7:$M$250,'24-25'!$F$7:$F$250,$A17,'24-25'!$H$7:$H$250,$B17,'24-25'!$I$7:$I$250,$C17,'24-25'!$J$7:$J$250,$D17,'24-25'!$K$7:$K$250,$E17) -> 13440.84
A18: Single Use Tourniquet Band Type Adult Pack of 25 | B18: RICHARDSON HEALTHCARE LTD | C18: V-Grip | D18: 501125-BD | E18: Box of 25 | F18: =IFERROR(VALUE(_xlfn.TEXTAFTER($E18,"of ")),1)*SUMIFS('24-25'!$L$7:$L$250,'24-25'!$F$7:$F$250,$A18,'24-25'!$H$7:$H$250,$B18,'24-25'!$I$7:$I$250,$C18,'24-25'!$J$7:$J$250,$D18,'24-25'!$K$7:$K$250,$E18) -> 50 | G18: =SUMIFS('24-25'!$M$7:$M$250,'24-25'!$F$7:$F$250,$A18,'24-25'!$H$7:$H$250,$B18,'24-25'!$I$7:$I$250,$C18,'24-25'!$J$7:$J$250,$D18,'24-25'!$K$7:$K$250,$E18) -> 1.94
A19: Single Use Tourniquet Single Use Quick Release Button Latex Free | B19: RICHARDSON HEALTHCARE LTD | C19: V-Loc | D19: 501110 | E19: Pack of 100 | F19: =IFERROR(VALUE(_xlfn.TEXTAFTER($E19,"of ")),1)*SUMIFS('24-25'!$L$7:$L$250,'24-25'!$F$7:$F$250,$A19,'24-25'!$H$7:$H$250,$B19,'24-25'!$I$7:$I$250,$C19,'24-25'!$J$7:$J$250,$D19,'24-25'!$K$7:$K$250,$E19) -> 323700 | G19: =SUMIFS('24-25'!$M$7:$M$250,'24-25'!$F$7:$F$250,$A19,'24-25'!$H$7:$H$250,$B19,'24-25'!$I$7:$I$250,$C19,'24-25'!$J$7:$J$250,$D19,'24-25'!$K$7:$K$250,$E19) -> 26325.97
A20: Single Use Tourniquet TourniButton In dispenser box and Latex Free | B20: TIMESCO HEALTHCARE LTD | C20: Timesco | D20: D80.200 | E20: Box of 100 | F20: =IFERROR(VALUE(_xlfn.TEXTAFTER($E20,"of ")),1)*SUMIFS('24-25'!$L$7:$L$250,'24-25'!$F$7:$F$250,$A20,'24-25'!$H$7:$H$250,$B20,'24-25'!$I$7:$I$250,$C20,'24-25'!$J$7:$J$250,$D20,'24-25'!$K$7:$K$250,$E20) -> 100 | G20: =SUMIFS('24-25'!$M$7:$M$250,'24-25'!$F$7:$F$250,$A20,'24-25'!$H$7:$H$250,$B20,'24-25'!$I$7:$I$250,$C20,'24-25'!$J$7:$J$250,$D20,'24-25'!$K$7:$K$250,$E20) -> 7.25
A21: Single Use Tourniquet Stretch quick release button type latex free paediatric pink | B21: VYGON UK LTD | C21: Vene K | D21: 580502 | E21: Box of 200 | F21: =IFERROR(VALUE(_xlfn.TEXTAFTER($E21,"of ")),1)*SUMIFS('24-25'!$L$7:$L$250,'24-25'!$F$7:$F$250,$A21,'24-25'!$H$7:$H$250,$B21,'24-25'!$I$7:$I$250,$C21,'24-25'!$J$7:$J$250,$D21,'24-25'!$K$7:$K$250,$E21) -> 600 | G21: =SUMIFS('24-25'!$M$7:$M$250,'24-25'!$F$7:$F$250,$A21,'24-25'!$H$7:$H$250,$B21,'24-25'!$I$7:$I$250,$C21,'24-25'!$J$7:$J$250,$D21,'24-25'!$K$7:$K$250,$E21) -> 114
A22: Single Use Tourniquet Stretch quick release single use button type latex free pink | B22: VYGON UK LTD | C22: Vene-K | D22: 580501 | E22: Box of 100 | F22: =IFERROR(VALUE(_xlfn.TEXTAFTER($E22,"of ")),1)*SUMIFS('24-25'!$L$7:$L$250,'24-25'!$F$7:$F$250,$A22,'24-25'!$H$7:$H$250,$B22,'24-25'!$I$7:$I$250,$C22,'24-25'!$J$7:$J$250,$D22,'24-25'!$K$7:$K$250,$E22) -> 100 | G22: =SUMIFS('24-25'!$M$7:$M$250,'24-25'!$F$7:$F$250,$A22,'24-25'!$H$7:$H$250,$B22,'24-25'!$I$7:$I$250,$C22,'24-25'!$J$7:$J$250,$D22,'24-25'!$K$7:$K$250,$E22) -> 16
A25: Financial Year 25-26 | E25: Annual totals | F25: =SUM(F27:F39) -> 742696 | G25: =SUM(G27:G39) -> 38610.95
A26: Product Description | B26: Supplier | C26: Brand | D26: MPC | E26: UOI | F26: Total Units Purchased | G26: Total Cost (£)
A27: Single Use Tourniquet Pull Through Type Adult Latex free easy quick and economical boxed reel supports ANTT practice | B27: ASEP HEALTHCARE | C27: Tournistrip | D27: 5490LHT236/ASEP200 | E27: Box of 200 | F27: =IFERROR(VALUE(_xlfn.TEXTAFTER($E27,"of ")),1)*SUMIFS('25-26'!$L$7:$L$403,'25-26'!$F$7:$F$403,$A27,'25-26'!$H$7:$H$403,$B27,'25-26'!$I$7:$I$403,$C27,'25-26'!$J$7:$J$403,$D27,'25-26'!$K$7:$K$403,$E27) -> 1600 | G27: =SUMIFS('25-26'!$M$7:$M$403,'25-26'!$F$7:$F$403,$A27,'25-26'!$H$7:$H$403,$B27,'25-26'!$I$7:$I$403,$C27,'25-26'!$J$7:$J$403,$D27,'25-26'!$K$7:$K$403,$E27) -> 240
A28: Single Use Tourniquet Pull Through Type Adult Latex free easy quick and economically boxed reel | B28: ASEP HEALTHCARE | C28: Tournistrip | D28: 5490LHT236/ASEP200 | E28: Box of 200 | F28: =IFERROR(VALUE(_xlfn.TEXTAFTER($E28,"of ")),1)*SUMIFS('25-26'!$L$7:$L$403,'25-26'!$F$7:$F$403,$A28,'25-26'!$H$7:$H$403,$B28,'25-26'!$I$7:$I$403,$C28,'25-26'!$J$7:$J$403,$D28,'25-26'!$K$7:$K$403,$E28) -> 1000 | G28: =SUMIFS('25-26'!$M$7:$M$403,'25-26'!$F$7:$F$403,$A28,'25-26'!$H$7:$H$403,$B28,'25-26'!$I$7:$I$403,$C28,'25-26'!$J$7:$J$403,$D28,'25-26'!$K$7:$K$403,$E28) -> 150
A29: Single Use Tourniquet Tournistrip single use latex free tourniquet easy quick and economical boxed reel of 200 supports ANTT practice | B29: ASEP HEALTHCARE | C29: Tournistrip | D29: 5490LHT236/ASEP200 | E29: Box of 200 | F29: =IFERROR(VALUE(_xlfn.TEXTAFTER($E29,"of ")),1)*SUMIFS('25-26'!$L$7:$L$403,'25-26'!$F$7:$F$403,$A29,'25-26'!$H$7:$H$403,$B29,'25-26'!$I$7:$I$403,$C29,'25-26'!$J$7:$J$403,$D29,'25-26'!$K$7:$K$403,$E29) -> 1200 | G29: =SUMIFS('25-26'!$M$7:$M$403,'25-26'!$F$7:$F$403,$A29,'25-26'!$H$7:$H$403,$B29,'25-26'!$I$7:$I$403,$C29,'25-26'!$J$7:$J$403,$D29,'25-26'!$K$7:$K$403,$E29) -> 180
A30: Single Use Tourniquet Button Type Adult Quick Release & Latex Free Blue | B30: MEDICINA LIMITED | C30: Medicina | D30: DT01 | E30: Box of 100 | F30: =IFERROR(VALUE(_xlfn.TEXTAFTER($E30,"of ")),1)*SUMIFS('25-26'!$L$7:$L$403,'25-26'!$F$7:$F$403,$A30,'25-26'!$H$7:$H$403,$B30,'25-26'!$I$7:$I$403,$C30,'25-26'!$J$7:$J$403,$D30,'25-26'!$K$7:$K$403,$E30) -> 200 | G30: =SUMIFS('25-26'!$M$7:$M$403,'25-26'!$F$7:$F$403,$A30,'25-26'!$H$7:$H$403,$B30,'25-26'!$I$7:$I$403,$C30,'25-26'!$J$7:$J$403,$D30,'25-26'!$K$7:$K$403,$E30) -> 42
A31: Single Use Tourniquet Band Type Adult Latex Free Blue Smooth Finish | B31: POLYCO HEALTHLINE LIMITED | C31: T-Band Plus | D31: TBBN25 | E31: Box of 25 | F31: =IFERROR(VALUE(_xlfn.TEXTAFTER($E31,"of ")),1)*SUMIFS('25-26'!$L$7:$L$403,'25-26'!$F$7:$F$403,$A31,'25-26'!$H$7:$H$403,$B31,'25-26'!$I$7:$I$403,$C31,'25-26'!$J$7:$J$403,$D31,'25-26'!$K$7:$K$403,$E31) -> 289800 | G31: =SUMIFS('25-26'!$M$7:$M$403,'25-26'!$F$7:$F$403,$A31,'25-26'!$H$7:$H$403,$B31,'25-26'!$I$7:$I$403,$C31,'25-26'!$J$7:$J$403,$D31,'25-26'!$K$7:$K$403,$E31) -> 9637.24
A32: Single Use Tourniquet Single Use Latex Free Band Type Blue Smooth Finish | B32: POLYCO HEALTHLINE LIMITED | C32: T-Band Plus | D32: TBBN25 | E32: Box of 25 | F32: =IFERROR(VALUE(_xlfn.TEXTAFTER($E32,"of ")),1)*SUMIFS('25-26'!$L$7:$L$403,'25-26'!$F$7:$F$403,$A32,'25-26'!$H$7:$H$403,$B32,'25-26'!$I$7:$I$403,$C32,'25-26'!$J$7:$J$403,$D32,'25-26'!$K$7:$K$403,$E32) -> 113425 | G32: =SUMIFS('25-26'!$M$7:$M$403,'25-26'!$F$7:$F$403,$A32,'25-26'!$H$7:$H$403,$B32,'25-26'!$I$7:$I$403,$C32,'25-26'!$J$7:$J$403,$D32,'25-26'!$K$7:$K$403,$E32) -> 3811.08
A33: Single Use Tourniquet Button Type Adult Quick Release Latex Free | B33: RICHARDSON HEALTHCARE LTD | C33: V-Loc | D33: 501110 | E33: Pack of 100 | F33: =IFERROR(VALUE(_xlfn.TEXTAFTER($E33,"of ")),1)*SUMIFS('25-26'!$L$7:$L$403,'25-26'!$F$7:$F$403,$A33,'25-26'!$H$7:$H$403,$B33,'25-26'!$I$7:$I$403,$C33,'25-26'!$J$7:$J$403,$D33,'25-26'!$K$7:$K$403,$E33) -> 240200 | G33: =SUMIFS('25-26'!$M$7:$M$403,'25-26'!$F$7:$F$403,$A33,'25-26'!$H$7:$H$403,$B33,'25-26'!$I$7:$I$403,$C33,'25-26'!$J$7:$J$403,$D33,'25-26'!$K$7:$K$403,$E33) -> 17057.07
A34: Single Use Tourniquet Single Use Quick Release Button Latex Free | B34: RICHARDSON HEALTHCARE LTD | C34: V-Loc | D34: 501110 | E34: Pack of 100 | F34: =IFERROR(VALUE(_xlfn.TEXTAFTER($E34,"of ")),1)*SUMIFS('25-26'!$L$7:$L$403,'25-26'!$F$7:$F$403,$A34,'25-26'!$H$7:$H$403,$B34,'25-26'!$I$7:$I$403,$C34,'25-26'!$J$7:$J$403,$D34,'25-26'!$K$7:$K$403,$E34) -> 93100 | G34: =SUMIFS('25-26'!$M$7:$M$403,'25-26'!$F$7:$F$403,$A34,'25-26'!$H$7:$H$403,$B34,'25-26'!$I$7:$I$403,$C34,'25-26'!$J$7:$J$403,$D34,'25-26'!$K$7:$K$403,$E34) -> 6623.12
A35: Single Use Tourniquet Button Type Paediatric Stretch quick releas latex free pink | B35: VYGON UK LTD | C35: Vene K | D35: 580502 | E35: Box of 200 | F35: =IFERROR(VALUE(_xlfn.TEXTAFTER($E35,"of ")),1)*SUMIFS('25-26'!$L$7:$L$403,'25-26'!$F$7:$F$403,$A35,'25-26'!$H$7:$H$403,$B35,'25-26'!$I$7:$I$403,$C35,'25-26'!$J$7:$J$403,$D35,'25-26'!$K$7:$K$403,$E35) -> 400 | G35: =SUMIFS('25-26'!$M$7:$M$403,'25-26'!$F$7:$F$403,$A35,'25-26'!$H$7:$H$403,$B35,'25-26'!$I$7:$I$403,$C35,'25-26'!$J$7:$J$403,$D35,'25-26'!$K$7:$K$403,$E35) -> 91.2
A36: Reusable Tourniquet Adult Blue elasticated quick release non pinch latex free | B36: WILLIAMS MEDICAL SUPPLIES LTD | C36: Wenzhou | D36: W2147 | E36: Each of 1 | F36: =IFERROR(VALUE(_xlfn.TEXTAFTER($E36,"of ")),1)*SUMIFS('25-26'!$L$7:$L$403,'25-26'!$F$7:$F$403,$A36,'25-26'!$H$7:$H$403,$B36,'25-26'!$I$7:$I$403,$C36,'25-26'!$J$7:$J$403,$D36,'25-26'!$K$7:$K$403,$E36) -> 1106 | G36: =SUMIFS('25-26'!$M$7:$M$403,'25-26'!$F$7:$F$403,$A36,'25-26'!$H$7:$H$403,$B36,'25-26'!$I$7:$I$403,$C36,'25-26'!$J$7:$J$403,$D36,'25-26'!$K$7:$K$403,$E36) -> 486.64
A37: Reusable Tourniquet Adult Reusable elasticated quick release for adults and paediatric latex free each | B37: WILLIAMS MEDICAL SUPPLIES LTD | C37: Wenzhou | D37: W2147 | E37: Each of 1 | F37: =IFERROR(VALUE(_xlfn.TEXTAFTER($E37,"of ")),1)*SUMIFS('25-26'!$L$7:$L$403,'25-26'!$F$7:$F$403,$A37,'25-26'!$H$7:$H$403,$B37,'25-26'!$I$7:$I$403,$C37,'25-26'!$J$7:$J$403,$D37,'25-26'!$K$7:$K$403,$E37) -> 50 | G37: =SUMIFS('25-26'!$M$7:$M$403,'25-26'!$F$7:$F$403,$A37,'25-26'!$H$7:$H$403,$B37,'25-26'!$I$7:$I$403,$C37,'25-26'!$J$7:$J$403,$D37,'25-26'!$K$7:$K$403,$E37) -> 22
A38: Tourniquet Reusable elasticated quick release for adults and paediatric latex free each | B38: WILLIAMS MEDICAL SUPPLIES LTD | C38: Wenzhou | D38: W2147 | E38: Each of 1 | F38: =IFERROR(VALUE(_xlfn.TEXTAFTER($E38,"of ")),1)*SUMIFS('25-26'!$L$7:$L$403,'25-26'!$F$7:$F$403,$A38,'25-26'!$H$7:$H$403,$B38,'25-26'!$I$7:$I$403,$C38,'25-26'!$J$7:$J$403,$D38,'25-26'!$K$7:$K$403,$E38) -> 202 | G38: =SUMIFS('25-26'!$M$7:$M$403,'25-26'!$F$7:$F$403,$A38,'25-26'!$H$7:$H$403,$B38,'25-26'!$I$7:$I$403,$C38,'25-26'!$J$7:$J$403,$D38,'25-26'!$K$7:$K$403,$E38) -> 88.88
A39: Reusable Tourniquet Adult Blue elasticated quick release non pinch latex free | B39: WILLIAMS MEDICAL SUPPLIES PLC | C39: Wenzhou | D39: W2147 | E39: Each of 1 | F39: =IFERROR(VALUE(_xlfn.TEXTAFTER($E39,"of ")),1)*SUMIFS('25-26'!$L$7:$L$403,'25-26'!$F$7:$F$403,$A39,'25-26'!$H$7:$H$403,$B39,'25-26'!$I$7:$I$403,$C39,'25-26'!$J$7:$J$403,$D39,'25-26'!$K$7:$K$403,$E39) -> 413 | G39: =SUMIFS('25-26'!$M$7:$M$403,'25-26'!$F$7:$F$403,$A39,'25-26'!$H$7:$H$403,$B39,'25-26'!$I$7:$I$403,$C39,'25-26'!$J$7:$J$403,$D39,'25-26'!$K$7:$K$403,$E39) -> 181.72

Sheet 25-26
A1: TR18 - Demand by NPC/group/section
A3: RTH - Oxford University Hospitals NHS Foundation Trust
A4: Report for financial period 1 (APR) to week ending 31/03/2026 (YTD) financial year 2026
A6: Req Point | B6: Requisition point name | C6: NPC | D6: EClass | E6: Framework name | F6: Product description | G6: Catalogue section | H6: Supplier | I6: Brand | J6: MPC | K6: UOI | L6: Supplied qty | M6: Total demand (£) | N6: Supply route
A7: 782004 | B7: IMMUNOLOGY L2 JR2 | C7: FWJ042 | D7: FVH | E7: Blood Draw Tools and Accessories | F7: Reusable Tourniquet Adult Blue elasticated quick release non pinch latex free | G7: Single Use Tourniquet | H7: WILLIAMS MEDICAL SUPPLIES LTD | I7: Wenzhou | J7: W2147 | K7: Each of 1 | L7: 6 | M7: 2.64 | N7: Stock
A8: 782244 | B8: VASCULAR ACCESS 5C/D LVL 5 | C8: FWJ042 | D8: FVH | E8: Blood Draw Tools and Accessories | F8: Reusable Tourniquet Adult Blue elasticated quick release non pinch latex free | G8: Single Use Tourniquet | H8: WILLIAMS MEDICAL SUPPLIES LTD | I8: Wenzhou | J8: W2147 | K8: Each of 1 | L8: 200 | M8: 88 | N8: Stock
A9: 782244 | B9: VASCULAR ACCESS 5C/D LVL 5 | C9: FWJ042 | D9: FVH | E9: Blood Draw Tools and Accessories | F9: Tourniquet Reusable elasticated quick release for adults and paediatric latex free each | G9: Single Use Tourniquet | H9: WILLIAMS MEDICAL SUPPLIES LTD | I9: Wenzhou | J9: W2147 | K9: Each of 1 | L9: 100 | M9: 44 | N9: Stock
A10: 782244 | B10: VASCULAR ACCESS 5C/D LVL 5 | C10: FWJ042 | D10: FVH | E10: Blood Draw Tools and Accessories | F10: Reusable Tourniquet Adult Blue elasticated quick release non pinch latex free | G10: Single Use Tourniquet | H10: WILLIAMS MEDICAL SUPPLIES LTD | I10: Wenzhou | J10: W2147 | K10: Each of 1 | L10: 300 | M10: 132 | N10: Stock
A11: 782244 | B11: VASCULAR ACCESS 5C/D LVL 5 | C11: FWJ042 | D11: FVH | E11: Blood Draw Tools and Accessories | F11: Reusable Tourniquet Adult Blue elasticated quick release non pinch latex free | G11: Single Use Tourniquet | H11: WILLIAMS MEDICAL SUPPLIES PLC | I11: Wenzhou | J11: W2147 | K11: Each of 1 | L11: 200 | M11: 88 | N11: Stock
A12: 782317 | B12: WITNEY MATERNITY UNIT | C12: FWJ042 | D12: FVH | E12: Blood Draw Tools and Accessories | F12: Reusable Tourniquet Adult Blue elasticated quick release non pinch latex free | G12: Single Use Tourniquet | H12: WILLIAMS MEDICAL SUPPLIES PLC | I12: Wenzhou | J12: W2147 | K12: Each of 1 | L12: 13 | M12: 5.72 | N12: Stock
A13: 782505 | B13: CHILDRENS DAY CARE WARD L1 | C13: FWJ042 | D13: FVH | E13: Blood Draw Tools and Accessories | F13: Tourniquet Reusable elasticated quick release for adults and paediatric latex free each | G13: Single Use Tourniquet | H13: WILLIAMS MEDICAL SUPPLIES LTD | I13: Wenzhou | J13: W2147 | K13: Each of 1 | L13: 2 | M13: 0.88 | N13: Stock
A14: 783134 | B14: WYCOMBE RENAL UNIT WYCOMBE HOS | C14: FWJ042 | D14: FVH | E14: Blood Draw Tools and Accessories | F14: Reusable Tourniquet Adult Reusable elasticated quick release for adults and paediatric latex free each | G14: Single Use Tourniquet | H14: WILLIAMS MEDICAL SUPPLIES LTD | I14: Wenzhou | J14: W2147 | K14: Each of 1 | L14: 50 | M14: 22 | N14: Stock
A15: 783281 | B15: VASCULAR ACCESS-NEAR UGI WARD | C15: FWJ042 | D15: FVH | E15: Blood Draw Tools and Accessories | F15: Reusable Tourniquet Adult Blue elasticated quick release non pinch latex free | G15: Single Use Tourniquet | H15: WILLIAMS MEDICAL SUPPLIES LTD | I15: Wenzhou | J15: W2147 | K15: Each of 1 | L15: 500 | M15: 220 | N15: Stock
A16: 783281 | B16: VASCULAR ACCESS-NEAR UGI WARD | C16: FWJ042 | D16: FVH | E16: Blood Draw Tools and Accessories | F16: Reusable Tourniquet Adult Blue elasticated quick release non pinch latex free | G16: Single Use Tourniquet | H16: WILLIAMS MEDICAL SUPPLIES PLC | I16: Wenzhou | J16: W2147 | K16: Each of 1 | L16: 200 | M16: 88 | N16: Stock
A17: 784030 | B17: BRODEY CENTRE | C17: FWJ042 | D17: FVH | E17: Blood Draw Tools and Accessories | F17: Tourniquet Reusable elasticated quick release for adults and paediatric latex free each | G17: Single Use Tourniquet | H17: WILLIAMS MEDICAL SUPPLIES LTD | I17: Wenzhou | J17: W2147 | K17: Each of 1 | L17: 100 | M17: 44 | N17: Stock
A18: 784355 | B18: BRODEY CENTRE HORTON | C18: FWJ042 | D18: FVH | E18: Blood Draw Tools and Accessories | F18: Reusable Tourniquet Adult Blue elasticated quick release non pinch latex free | G18: Single Use Tourniquet | H18: WILLIAMS MEDICAL SUPPLIES LTD | I18: Wenzhou | J18: W2147 | K18: Each of 1 | L18: 100 | M18: 44 | N18: Stock
... A403: 786338 | B403: WHITEHOUSE DIALYSIS UNIT MK | C403: FWJ113 | D403: FVH | E403: Blood Draw Tools and Accessories | F403: Single Use Tourniquet Band Type Adult Latex Free Blue Smooth Finish | G403: Single Use Tourniquet | H403: POLYCO HEALTHLINE LIMITED | I403: T-Band Plus | J403: TBBN25 | K403: Box of 25 | L403: 1 | M403: 0.82 | N403: Stock

Sheet 24-25
A1: TR18 - Demand by NPC/group/section
A3: RTH - Oxford University Hospitals NHS Foundation Trust
A4: Report for financial period 1 (APR) to week ending 31/03/2025 (YTD) financial year 2025
A6: Req Point | B6: Requisition point name | C6: NPC | D6: EClass | E6: Framework name | F6: Product description | G6: Catalogue section | H6: Supplier | I6: Brand | J6: MPC | K6: UOI | L6: Supplied qty | M6: Total demand (£) | N6: Supply route
A7: 782513 | B7: MILK KITCHEN L0 CHILDRENS | C7: FWJ053 | D7: FVH | E7: Blood Draw Tools and Accessories | F7: Single Use Tourniquet Stretch quick release button type latex free paediatric pink | G7: Single Use Tourniquet | H7: VYGON UK LTD | I7: Vene K | J7: 00580502 | K7: Box of 200 | L7: 3 | M7: 114 | N7: Stock
A8: 782059 | B8: OCCUPATIONAL HEALTH | C8: FWJ060 | D8: FVH | E8: Blood Draw Tools and Accessories | F8: Single Use Tourniquet Tournistrip single use latex free tourniquet easy quick and economical boxed reel of 200 supports ANTT practice | G8: Single Use Tourniquet | H8: ASEP HEALTHCARE | I8: Tournistrip | J8: 5490LHT236/ASEP200 | K8: Box of 200 | L8: 23 | M8: 690 | N8: Stock
A9: 782087 | B9: CARDIOLOGY WARD LEVEL 0 | C9: FWJ093 | D9: FVH | E9: Blood Draw Tools and Accessories | F9: Single Use Tourniquet Single Use Quick Release Button Latex Free | G9: Single Use Tourniquet | H9: RICHARDSON HEALTHCARE LTD | I9: V-Loc | J9: 501110 | K9: Pack of 100 | L9: 1 | M9: 8.17 | N9: Stock
A10: 782087 | B10: CARDIOLOGY WARD LEVEL 0 | C10: FWJ093 | D10: FVH | E10: Blood Draw Tools and Accessories | F10: Single Use Tourniquet Single Use Quick Release Button Latex Free | G10: Single Use Tourniquet | H10: RICHARDSON HEALTHCARE LTD | I10: V-Loc | J10: 501110 | K10: Pack of 100 | L10: 67 | M10: 545.75 | N10: Stock
A11: 782091 | B11: CARDIOTHORACIC A LV 2 CNT | C11: FWJ093 | D11: FVH | E11: Blood Draw Tools and Accessories | F11: Single Use Tourniquet Single Use Quick Release Button Latex Free | G11: Single Use Tourniquet | H11: RICHARDSON HEALTHCARE LTD | I11: V-Loc | J11: 501110 | K11: Pack of 100 | L11: 2 | M11: 16.34 | N11: Stock
A12: 782091 | B12: CARDIOTHORACIC A LV 2 CNT | C12: FWJ093 | D12: FVH | E12: Blood Draw Tools and Accessories | F12: Single Use Tourniquet Single Use Quick Release Button Latex Free | G12: Single Use Tourniquet | H12: RICHARDSON HEALTHCARE LTD | I12: V-Loc | J12: 501110 | K12: Pack of 100 | L12: 37 | M12: 301.47 | N12: Stock
A13: 782105 | B13: NUCLEAR CARDIOLOGY RM 1712 L1 | C13: FWJ093 | D13: FVH | E13: Blood Draw Tools and Accessories | F13: Single Use Tourniquet Single Use Quick Release Button Latex Free | G13: Single Use Tourniquet | H13: RICHARDSON HEALTHCARE LTD | I13: V-Loc | J13: 501110 | K13: Pack of 100 | L13: 18 | M13: 147.06 | N13: Stock
A14: 782167 | B14: PHLEBETOMY OPD LEVEL 2 | C14: FWJ093 | D14: FVH | E14: Blood Draw Tools and Accessories | F14: Single Use Tourniquet Single Use Quick Release Button Latex Free | G14: Single Use Tourniquet | H14: RICHARDSON HEALTHCARE LTD | I14: V-Loc | J14: 501110 | K14: Pack of 100 | L14: 150 | M14: 1218.57 | N14: Stock
A15: 782185 | B15: ENDOSCOPY | C15: FWJ093 | D15: FVH | E15: Blood Draw Tools and Accessories | F15: Single Use Tourniquet Single Use Quick Release Button Latex Free | G15: Single Use Tourniquet | H15: RICHARDSON HEALTHCARE LTD | I15: V-Loc | J15: 501110 | K15: Pack of 100 | L15: 100 | M15: 812.9 | N15: Stock
A16: 782197 | B16: OPD SISTER MSE RM 2513 | C16: FWJ093 | D16: FVH | E16: Blood Draw Tools and Accessories | F16: Single Use Tourniquet Single Use Quick Release Button Latex Free | G16: Single Use Tourniquet | H16: RICHARDSON HEALTHCARE LTD | I16: V-Loc | J16: 501110 | K16: Pack of 100 | L16: 302 | M16: 2459.59 | N16: Stock
A17: 782217 | B17: ANGIOGRAM XRAY L1 RM4(RM1335) | C17: FWJ093 | D17: FVH | E17: Blood Draw Tools and Accessories | F17: Single Use Tourniquet Single Use Quick Release Button Latex Free | G17: Single Use Tourniquet | H17: RICHARDSON HEALTHCARE LTD | I17: V-Loc | J17: 501110 | K17: Pack of 100 | L17: 9 | M17: 73.53 | N17: Stock
A18: 782217 | B18: ANGIOGRAM XRAY L1 RM4(RM1335) | C18: FWJ093 | D18: FVH | E18: Blood Draw Tools and Accessories | F18: Single Use Tourniquet Single Use Quick Release Button Latex Free | G18: Single Use Tourniquet | H18: RICHARDSON HEALTHCARE LTD | I18: V-Loc | J18: 501110 | K18: Pack of 100 | L18: 28 | M18: 227.94 | N18: Stock
... A250: 784345 | B250: PAEDIATRIC OPD HGH | C250: FWJ132 | D250: FVH | E250: Single Use Tourniquet 2022 | F250: Single Use Tourniquet Band Type Adult Pack of 25 | G250: Single Use Tourniquet | H250: RICHARDSON HEALTHCARE LTD | I250: V-Grip | J250: 501125-BD | K250: Box of 25 | L250: 2 | M250: 1.94 | N250: Cross dock

Sheet 23-24
A1: TR18 - Demand by NPC/group/section
A3: RTH - Oxford University Hospitals NHS Foundation Trust
A4: Report for financial period 1 (APR) to week ending 31/03/2024 (YTD) financial year 2024
A6: Req Point | B6: Requisition point name | C6: NPC | D6: EClass | E6: Framework name | F6: Product description | G6: Catalogue section | H6: Supplier | I6: Brand | J6: MPC | K6: UOI | L6: Supplied qty | M6: Total demand (£) | N6: Supply route
A7: 782059 | B7: OCCUPATIONAL HEALTH | C7: FWJ060 | D7: FVH | E7: Blood Draw Tools and Accessories | F7: Single Use Tourniquet Tournistrip single use latex free tourniquet easy quick and economical boxed reel of 200 supports ANTT practice | G7: Single Use Tourniquet | H7: ASEP HEALTHCARE | I7: Tournistrip | J7: 5490LHT236/ASEP200 | K7: Box of 200 | L7: 19 | M7: 570 | N7: Stock
A8: 785035 | B8: ANAESTHETICS NOC | C8: FWJ060 | D8: FVH | E8: Blood Draw Tools and Accessories | F8: Single Use Tourniquet Tournistrip single use latex free tourniquet easy quick and economical boxed reel of 200 supports ANTT practice | G8: Single Use Tourniquet | H8: ASEP HEALTHCARE | I8: Tournistrip | J8: 5490LHT236/ASEP200 | K8: Box of 200 | L8: 1 | M8: 30 | N8: Stock
A9: 785209 | B9: NOC - THT ANAESTHETICS (IM) | C9: FWJ060 | D9: FVH | E9: Blood Draw Tools and Accessories | F9: Single Use Tourniquet Tournistrip single use latex free tourniquet easy quick and economical boxed reel of 200 supports ANTT practice | G9: Single Use Tourniquet | H9: ASEP HEALTHCARE | I9: Tournistrip | J9: 5490LHT236/ASEP200 | K9: Box of 200 | L9: 1 | M9: 30 | N9: Stock
A10: 782087 | B10: CARDIOLOGY WARD LEVEL 0 | C10: FWJ093 | D10: FVH | E10: Blood Draw Tools and Accessories | F10: Single Use Tourniquet Single Use Quick Release Button Latex Free | G10: Single Use Tourniquet | H10: RICHARDSON HEALTHCARE LTD | I10: V-Loc | J10: 501110 | K10: Pack of 100 | L10: 62 | M10: 506.54 | N10: Stock
A11: 782091 | B11: CARDIOTHORACIC A LV 2 CNT | C11: FWJ093 | D11: FVH | E11: Blood Draw Tools and Accessories | F11: Single Use Tourniquet Single Use Quick Release Button Latex Free | G11: Single Use Tourniquet | H11: RICHARDSON HEALTHCARE LTD | I11: V-Loc | J11: 501110 | K11: Pack of 100 | L11: 45 | M11: 367.65 | N11: Stock
A12: 782105 | B12: NUCLEAR CARDIOLOGY RM 1712 L1 | C12: FWJ093 | D12: FVH | E12: Blood Draw Tools and Accessories | F12: Single Use Tourniquet Single Use Quick Release Button Latex Free | G12: Single Use Tourniquet | H12: RICHARDSON HEALTHCARE LTD | I12: V-Loc | J12: 501110 | K12: Pack of 100 | L12: 28 | M12: 228.76 | N12: Stock
A13: 782167 | B13: PHLEBETOMY OPD LEVEL 2 | C13: FWJ093 | D13: FVH | E13: Blood Draw Tools and Accessories | F13: Single Use Tourniquet Single Use Quick Release Button Latex Free | G13: Single Use Tourniquet | H13: RICHARDSON HEALTHCARE LTD | I13: V-Loc | J13: 501110 | K13: Pack of 100 | L13: 145 | M13: 1184.65 | N13: Stock
A14: 782185 | B14: ENDOSCOPY | C14: FWJ093 | D14: FVH | E14: Blood Draw Tools and Accessories | F14: Single Use Tourniquet Single Use Quick Release Button Latex Free | G14: Single Use Tourniquet | H14: RICHARDSON HEALTHCARE LTD | I14: V-Loc | J14: 501110 | K14: Pack of 100 | L14: 88 | M14: 718.96 | N14: Stock
A15: 782197 | B15: OPD SISTER MSE RM 2513 | C15: FWJ093 | D15: FVH | E15: Blood Draw Tools and Accessories | F15: Single Use Tourniquet Single Use Quick Release Button Latex Free | G15: Single Use Tourniquet | H15: RICHARDSON HEALTHCARE LTD | I15: V-Loc | J15: 501110 | K15: Pack of 100 | L15: 6 | M15: 49.02 | N15: Stock
A16: 782197 | B16: OPD SISTER MSE RM 2513 | C16: FWJ093 | D16: FVH | E16: Blood Draw Tools and Accessories | F16: Single Use Tourniquet Single Use Quick Release Button Latex Free | G16: Single Use Tourniquet | H16: RICHARDSON HEALTHCARE LTD | I16: V-Loc | J16: 501110 | K16: Pack of 100 | L16: 230 | M16: 1879.1 | N16: Stock
A17: 782217 | B17: ANGIOGRAM XRAY L1 RM4(RM1335) | C17: FWJ093 | D17: FVH | E17: Blood Draw Tools and Accessories | F17: Single Use Tourniquet Single Use Quick Release Button Latex Free | G17: Single Use Tourniquet | H17: RICHARDSON HEALTHCARE LTD | I17: V-Loc | J17: 501110 | K17: Pack of 100 | L17: 26 | M17: 212.42 | N17: Stock
A18: 782217 | B18: ANGIOGRAM XRAY L1 RM4(RM1335) | C18: FWJ093 | D18: FVH | E18: Blood Draw Tools and Accessories | F18: Single Use Tourniquet Single Use Quick Release Button Latex Free | G18: Single Use Tourniquet | H18: RICHARDSON HEALTHCARE LTD | I18: V-Loc | J18: 501110 | K18: Pack of 100 | L18: 10 | M18: 81.7 | N18: Stock
... A240: 786338 | B240: WHITEHOUSE DIALYSIS UNIT MK | C240: FWJ113 | D240: FVH | E240: Blood Draw Tools and Accessories | F240: Single Use Tourniquet Single Use Latex Free Band Type Blue Smooth Finish | G240: Single Use Tourniquet | H240: POLYCO HEALTHLINE LIMITED | I240: T-Band Plus | J240: TBBN25 | K240: Box of 25 | L240: 2 | M240: 1.68 | N240: Stock
